BEGIN:VCALENDAR
VERSION:2.0
PRODID:-//Knox College, Canada - ECPv6.15.18//NONSGML v1.0//EN
CALSCALE:GREGORIAN
METHOD:PUBLISH
X-ORIGINAL-URL:https://knox.utoronto.ca
X-WR-CALDESC:Events for Knox College, Canada
REFRESH-INTERVAL;VALUE=DURATION:PT1H
X-Robots-Tag:noindex
X-PUBLISHED-TTL:PT1H
BEGIN:VTIMEZONE
TZID:America/Toronto
BEGIN:DAYLIGHT
TZOFFSETFROM:-0500
TZOFFSETTO:-0400
TZNAME:EDT
DTSTART:20250309T070000
END:DAYLIGHT
BEGIN:STANDARD
TZOFFSETFROM:-0400
TZOFFSETTO:-0500
TZNAME:EST
DTSTART:20251102T060000
END:STANDARD
BEGIN:DAYLIGHT
TZOFFSETFROM:-0500
TZOFFSETTO:-0400
TZNAME:EDT
DTSTART:20260308T070000
END:DAYLIGHT
BEGIN:STANDARD
TZOFFSETFROM:-0400
TZOFFSETTO:-0500
TZNAME:EST
DTSTART:20261101T060000
END:STANDARD
BEGIN:DAYLIGHT
TZOFFSETFROM:-0500
TZOFFSETTO:-0400
TZNAME:EDT
DTSTART:20270314T070000
END:DAYLIGHT
BEGIN:STANDARD
TZOFFSETFROM:-0400
TZOFFSETTO:-0500
TZNAME:EST
DTSTART:20271107T060000
END:STANDARD
END:VTIMEZONE
BEGIN:VEVENT
DTSTART;TZID=America/Toronto:20260429T190000
DTEND;TZID=America/Toronto:20260429T200000
DTSTAMP:20260420T002513
CREATED:20250717T162821Z
LAST-MODIFIED:20250717T162821Z
UID:10003625-1777489200-1777492800@knox.utoronto.ca
SUMMARY:Planting Roots and Planning Ahead: Estate Essentials for New Canadians - Abraham Somavarapha
DESCRIPTION:As a new Canadian\, estate planning might feel complicated—especially if you still have family\, responsibilities\, or property in another country. Join us for this free webinar hosted by Abraham Somavarapha and our partners at Advisors with Purpose created specifically for immigrants to Canada. We’ll help you understand the essentials so you can confidently plan your legacy and take care of what matters most. You’ll learn: \n\nWhat makes a Canadian will legally valid\nWhat documents you need and when to update them\nHow to handle foreign property and cross-border issues\nWays to support family members living abroad\nWhat estate planning typically costs in Canada\n\n      Link to register: https://calendly.com/awpwebinar/april-29-2026
URL:https://knox.utoronto.ca/event/planting-roots-and-planning-ahead-estate-essentials-for-new-canadians-abraham-somavarapha/
END:VEVENT
END:VCALENDAR