BEGIN:VCALENDAR
VERSION:2.0
PRODID:-//Knox College, Canada - ECPv6.15.18//NONSGML v1.0//EN
CALSCALE:GREGORIAN
METHOD:PUBLISH
X-ORIGINAL-URL:https://knox.utoronto.ca
X-WR-CALDESC:Events for Knox College, Canada
REFRESH-INTERVAL;VALUE=DURATION:PT1H
X-Robots-Tag:noindex
X-PUBLISHED-TTL:PT1H
BEGIN:VTIMEZONE
TZID:America/Toronto
BEGIN:DAYLIGHT
TZOFFSETFROM:-0500
TZOFFSETTO:-0400
TZNAME:EDT
DTSTART:20250309T070000
END:DAYLIGHT
BEGIN:STANDARD
TZOFFSETFROM:-0400
TZOFFSETTO:-0500
TZNAME:EST
DTSTART:20251102T060000
END:STANDARD
BEGIN:DAYLIGHT
TZOFFSETFROM:-0500
TZOFFSETTO:-0400
TZNAME:EDT
DTSTART:20260308T070000
END:DAYLIGHT
BEGIN:STANDARD
TZOFFSETFROM:-0400
TZOFFSETTO:-0500
TZNAME:EST
DTSTART:20261101T060000
END:STANDARD
BEGIN:DAYLIGHT
TZOFFSETFROM:-0500
TZOFFSETTO:-0400
TZNAME:EDT
DTSTART:20270314T070000
END:DAYLIGHT
BEGIN:STANDARD
TZOFFSETFROM:-0400
TZOFFSETTO:-0500
TZNAME:EST
DTSTART:20271107T060000
END:STANDARD
END:VTIMEZONE
BEGIN:VEVENT
DTSTART;VALUE=DATE:20260501
DTEND;VALUE=DATE:20260502
DTSTAMP:20260422T150316
CREATED:20250919T132736Z
LAST-MODIFIED:20250919T132736Z
UID:10003679-1777593600-1777679999@knox.utoronto.ca
SUMMARY:Domestic CTS\, MDiv\, MTS – Fall Start Application Deadline
DESCRIPTION:
URL:https://knox.utoronto.ca/event/domestic-cts-mdiv-mts-fall-start-application-deadline/
END:VEVENT
BEGIN:VEVENT
DTSTART;VALUE=DATE:20260513
DTEND;VALUE=DATE:20260514
DTSTAMP:20260422T150316
CREATED:20250717T160018Z
LAST-MODIFIED:20250717T160018Z
UID:10003354-1778630400-1778716799@knox.utoronto.ca
SUMMARY:Knox College's 182nd Convocation Ceremony
DESCRIPTION:
URL:https://knox.utoronto.ca/event/knox-colleges-182nd-convocation-ceremony/
END:VEVENT
BEGIN:VEVENT
DTSTART;TZID=America/Toronto:20260527T200000
DTEND;TZID=America/Toronto:20260527T210000
DTSTAMP:20260422T150316
CREATED:20250717T162918Z
LAST-MODIFIED:20250717T162918Z
UID:10003626-1779912000-1779915600@knox.utoronto.ca
SUMMARY:Legacy in Motion: Living Generously with a Future in Mind - Lorne Jackson and Mary Lynn Huizing
DESCRIPTION:Legacy isn’t a distant idea—it’s something you’re shaping with every decision\, every act of generosity\, and every conversation. Join us for Legacy in Motion\, a free webinar hosted by Lorne Jackson and Mary Lynn Huizing and our partners at Advisors with Purpose\, created to help you consider how your values and generosity today can create meaningful impact for years to come. In this session\, we’ll explore: \n\nThe deeper “why” behind living generously\nHow to structure giving—now and through your estate\nWays to share your plans and purpose with your family\nHow to inspire others through your example\nTools that help align your faith\, values\, and finances\n\n      Link to register: https://calendly.com/awpwebinar/may-27-2026
URL:https://knox.utoronto.ca/event/legacy-in-motion-living-generously-with-a-future-in-mind-lorne-jackson-and-mary-lynn-huizing/
END:VEVENT
END:VCALENDAR