BEGIN:VCALENDAR
VERSION:2.0
PRODID:-//Knox College, Canada - ECPv6.15.18//NONSGML v1.0//EN
CALSCALE:GREGORIAN
METHOD:PUBLISH
X-ORIGINAL-URL:https://knox.utoronto.ca
X-WR-CALDESC:Events for Knox College, Canada
REFRESH-INTERVAL;VALUE=DURATION:PT1H
X-Robots-Tag:noindex
X-PUBLISHED-TTL:PT1H
BEGIN:VTIMEZONE
TZID:America/Toronto
BEGIN:DAYLIGHT
TZOFFSETFROM:-0500
TZOFFSETTO:-0400
TZNAME:EDT
DTSTART:20240310T070000
END:DAYLIGHT
BEGIN:STANDARD
TZOFFSETFROM:-0400
TZOFFSETTO:-0500
TZNAME:EST
DTSTART:20241103T060000
END:STANDARD
BEGIN:DAYLIGHT
TZOFFSETFROM:-0500
TZOFFSETTO:-0400
TZNAME:EDT
DTSTART:20250309T070000
END:DAYLIGHT
BEGIN:STANDARD
TZOFFSETFROM:-0400
TZOFFSETTO:-0500
TZNAME:EST
DTSTART:20251102T060000
END:STANDARD
BEGIN:DAYLIGHT
TZOFFSETFROM:-0500
TZOFFSETTO:-0400
TZNAME:EDT
DTSTART:20260308T070000
END:DAYLIGHT
BEGIN:STANDARD
TZOFFSETFROM:-0400
TZOFFSETTO:-0500
TZNAME:EST
DTSTART:20261101T060000
END:STANDARD
END:VTIMEZONE
BEGIN:VEVENT
DTSTART;VALUE=DATE:20250701
DTEND;VALUE=DATE:20250702
DTSTAMP:20260422T065845
CREATED:20250109T143346Z
LAST-MODIFIED:20250109T143346Z
UID:10003551-1751328000-1751414399@knox.utoronto.ca
SUMMARY:Canada Day (College Closed)
DESCRIPTION:
URL:https://knox.utoronto.ca/event/canada-day-college-closed/
END:VEVENT
BEGIN:VEVENT
DTSTART;TZID=America/Toronto:20250701T131500
DTEND;TZID=America/Toronto:20250701T140000
DTSTAMP:20260422T065845
CREATED:20240109T153146Z
LAST-MODIFIED:20240305T164837Z
UID:10003473-1751375700-1751378400@knox.utoronto.ca
SUMMARY:Chapel
DESCRIPTION:
URL:https://knox.utoronto.ca/event/chapel-2/2025-07-01/
END:VEVENT
BEGIN:VEVENT
DTSTART;TZID=America/Toronto:20250701T161500
DTEND;TZID=America/Toronto:20250701T170000
DTSTAMP:20260422T065845
CREATED:20190808T203259Z
LAST-MODIFIED:20190808T205143Z
UID:10003022-1751386500-1751389200@knox.utoronto.ca
SUMMARY:Community Worship Service Starts
DESCRIPTION:
URL:https://knox.utoronto.ca/event/community-worship-service-starts-weekly/2025-07-01/
END:VEVENT
BEGIN:VEVENT
DTSTART;VALUE=DATE:20250704
DTEND;VALUE=DATE:20250705
DTSTAMP:20260422T065845
CREATED:20250715T013110Z
LAST-MODIFIED:20250715T013110Z
UID:10003572-1751587200-1751673599@knox.utoronto.ca
SUMMARY:Knox College Closed
DESCRIPTION:
URL:https://knox.utoronto.ca/event/knox-college-closed-2/2025-07-04/
END:VEVENT
BEGIN:VEVENT
DTSTART;TZID=America/Toronto:20250708T131500
DTEND;TZID=America/Toronto:20250708T140000
DTSTAMP:20260422T065845
CREATED:20240109T153146Z
LAST-MODIFIED:20240305T164837Z
UID:10003474-1751980500-1751983200@knox.utoronto.ca
SUMMARY:Chapel
DESCRIPTION:
URL:https://knox.utoronto.ca/event/chapel-2/2025-07-08/
END:VEVENT
BEGIN:VEVENT
DTSTART;TZID=America/Toronto:20250708T161500
DTEND;TZID=America/Toronto:20250708T170000
DTSTAMP:20260422T065845
CREATED:20190808T203259Z
LAST-MODIFIED:20190808T205143Z
UID:10003023-1751991300-1751994000@knox.utoronto.ca
SUMMARY:Community Worship Service Starts
DESCRIPTION:
URL:https://knox.utoronto.ca/event/community-worship-service-starts-weekly/2025-07-08/
END:VEVENT
BEGIN:VEVENT
DTSTART;VALUE=DATE:20250711
DTEND;VALUE=DATE:20250712
DTSTAMP:20260422T065845
CREATED:20250715T013110Z
LAST-MODIFIED:20250715T013110Z
UID:10003573-1752192000-1752278399@knox.utoronto.ca
SUMMARY:Knox College Closed
DESCRIPTION:
URL:https://knox.utoronto.ca/event/knox-college-closed-2/2025-07-11/
END:VEVENT
BEGIN:VEVENT
DTSTART;TZID=America/Toronto:20250715T131500
DTEND;TZID=America/Toronto:20250715T140000
DTSTAMP:20260422T065845
CREATED:20240109T153146Z
LAST-MODIFIED:20240305T164837Z
UID:10003475-1752585300-1752588000@knox.utoronto.ca
SUMMARY:Chapel
DESCRIPTION:
URL:https://knox.utoronto.ca/event/chapel-2/2025-07-15/
END:VEVENT
BEGIN:VEVENT
DTSTART;TZID=America/Toronto:20250715T161500
DTEND;TZID=America/Toronto:20250715T170000
DTSTAMP:20260422T065845
CREATED:20190808T203259Z
LAST-MODIFIED:20190808T205143Z
UID:10003024-1752596100-1752598800@knox.utoronto.ca
SUMMARY:Community Worship Service Starts
DESCRIPTION:
URL:https://knox.utoronto.ca/event/community-worship-service-starts-weekly/2025-07-15/
END:VEVENT
BEGIN:VEVENT
DTSTART;VALUE=DATE:20250718
DTEND;VALUE=DATE:20250719
DTSTAMP:20260422T065845
CREATED:20250715T013110Z
LAST-MODIFIED:20250715T013110Z
UID:10003574-1752796800-1752883199@knox.utoronto.ca
SUMMARY:Knox College Closed
DESCRIPTION:
URL:https://knox.utoronto.ca/event/knox-college-closed-2/2025-07-18/
END:VEVENT
BEGIN:VEVENT
DTSTART;TZID=America/Toronto:20250722T131500
DTEND;TZID=America/Toronto:20250722T140000
DTSTAMP:20260422T065845
CREATED:20240109T153146Z
LAST-MODIFIED:20240305T164837Z
UID:10003476-1753190100-1753192800@knox.utoronto.ca
SUMMARY:Chapel
DESCRIPTION:
URL:https://knox.utoronto.ca/event/chapel-2/2025-07-22/
END:VEVENT
BEGIN:VEVENT
DTSTART;TZID=America/Toronto:20250722T161500
DTEND;TZID=America/Toronto:20250722T170000
DTSTAMP:20260422T065845
CREATED:20190808T203259Z
LAST-MODIFIED:20190808T205143Z
UID:10003025-1753200900-1753203600@knox.utoronto.ca
SUMMARY:Community Worship Service Starts
DESCRIPTION:
URL:https://knox.utoronto.ca/event/community-worship-service-starts-weekly/2025-07-22/
END:VEVENT
BEGIN:VEVENT
DTSTART;VALUE=DATE:20250725
DTEND;VALUE=DATE:20250726
DTSTAMP:20260422T065845
CREATED:20250715T013110Z
LAST-MODIFIED:20250715T013110Z
UID:10003575-1753401600-1753487999@knox.utoronto.ca
SUMMARY:Knox College Closed
DESCRIPTION:
URL:https://knox.utoronto.ca/event/knox-college-closed-2/2025-07-25/
END:VEVENT
BEGIN:VEVENT
DTSTART;TZID=America/Toronto:20250729T131500
DTEND;TZID=America/Toronto:20250729T140000
DTSTAMP:20260422T065845
CREATED:20240109T153146Z
LAST-MODIFIED:20240305T164837Z
UID:10003477-1753794900-1753797600@knox.utoronto.ca
SUMMARY:Chapel
DESCRIPTION:
URL:https://knox.utoronto.ca/event/chapel-2/2025-07-29/
END:VEVENT
BEGIN:VEVENT
DTSTART;TZID=America/Toronto:20250729T161500
DTEND;TZID=America/Toronto:20250729T170000
DTSTAMP:20260422T065845
CREATED:20190808T203259Z
LAST-MODIFIED:20190808T205143Z
UID:10003026-1753805700-1753808400@knox.utoronto.ca
SUMMARY:Community Worship Service Starts
DESCRIPTION:
URL:https://knox.utoronto.ca/event/community-worship-service-starts-weekly/2025-07-29/
END:VEVENT
END:VCALENDAR