BEGIN:VCALENDAR
VERSION:2.0
PRODID:-//Knox College, Canada - ECPv6.15.18//NONSGML v1.0//EN
CALSCALE:GREGORIAN
METHOD:PUBLISH
X-ORIGINAL-URL:https://knox.utoronto.ca
X-WR-CALDESC:Events for Knox College, Canada
REFRESH-INTERVAL;VALUE=DURATION:PT1H
X-Robots-Tag:noindex
X-PUBLISHED-TTL:PT1H
BEGIN:VTIMEZONE
TZID:America/Toronto
BEGIN:DAYLIGHT
TZOFFSETFROM:-0500
TZOFFSETTO:-0400
TZNAME:EDT
DTSTART:20240310T070000
END:DAYLIGHT
BEGIN:STANDARD
TZOFFSETFROM:-0400
TZOFFSETTO:-0500
TZNAME:EST
DTSTART:20241103T060000
END:STANDARD
BEGIN:DAYLIGHT
TZOFFSETFROM:-0500
TZOFFSETTO:-0400
TZNAME:EDT
DTSTART:20250309T070000
END:DAYLIGHT
BEGIN:STANDARD
TZOFFSETFROM:-0400
TZOFFSETTO:-0500
TZNAME:EST
DTSTART:20251102T060000
END:STANDARD
BEGIN:DAYLIGHT
TZOFFSETFROM:-0500
TZOFFSETTO:-0400
TZNAME:EDT
DTSTART:20260308T070000
END:DAYLIGHT
BEGIN:STANDARD
TZOFFSETFROM:-0400
TZOFFSETTO:-0500
TZNAME:EST
DTSTART:20261101T060000
END:STANDARD
END:VTIMEZONE
BEGIN:VEVENT
DTSTART;TZID=America/Toronto:20250401T131500
DTEND;TZID=America/Toronto:20250401T140000
DTSTAMP:20260422T131145
CREATED:20240109T153146Z
LAST-MODIFIED:20240305T164837Z
UID:10003460-1743513300-1743516000@knox.utoronto.ca
SUMMARY:Chapel
DESCRIPTION:
URL:https://knox.utoronto.ca/event/chapel-2/2025-04-01/
END:VEVENT
BEGIN:VEVENT
DTSTART;TZID=America/Toronto:20250401T131500
DTEND;TZID=America/Toronto:20250401T140000
DTSTAMP:20260422T131145
CREATED:20250106T210645Z
LAST-MODIFIED:20250109T145203Z
UID:10003540-1743513300-1743516000@knox.utoronto.ca
SUMMARY:Weekly Chapel
DESCRIPTION:
URL:https://knox.utoronto.ca/event/weekly-chapel/2025-04-01/
END:VEVENT
BEGIN:VEVENT
DTSTART;TZID=America/Toronto:20250401T161500
DTEND;TZID=America/Toronto:20250401T170000
DTSTAMP:20260422T131145
CREATED:20190808T203259Z
LAST-MODIFIED:20190808T205143Z
UID:10003009-1743524100-1743526800@knox.utoronto.ca
SUMMARY:Community Worship Service Starts
DESCRIPTION:
URL:https://knox.utoronto.ca/event/community-worship-service-starts-weekly/2025-04-01/
END:VEVENT
BEGIN:VEVENT
DTSTART;VALUE=DATE:20250404
DTEND;VALUE=DATE:20250405
DTSTAMP:20260422T131145
CREATED:20250109T142431Z
LAST-MODIFIED:20250109T142431Z
UID:10003547-1743724800-1743811199@knox.utoronto.ca
SUMMARY:Winter 2025 Classes End
DESCRIPTION:
URL:https://knox.utoronto.ca/event/winter-2025-classes-end/
END:VEVENT
BEGIN:VEVENT
DTSTART;VALUE=DATE:20250406
DTEND;VALUE=DATE:20250407
DTSTAMP:20260422T131145
CREATED:20250109T144949Z
LAST-MODIFIED:20250109T144949Z
UID:10003292-1743897600-1743983999@knox.utoronto.ca
SUMMARY:5th Sunday in Lent
DESCRIPTION:
URL:https://knox.utoronto.ca/event/5th-sunday-in-lent/
END:VEVENT
BEGIN:VEVENT
DTSTART;TZID=America/Toronto:20250408T131500
DTEND;TZID=America/Toronto:20250408T140000
DTSTAMP:20260422T131145
CREATED:20240109T153146Z
LAST-MODIFIED:20240305T164837Z
UID:10003461-1744118100-1744120800@knox.utoronto.ca
SUMMARY:Chapel
DESCRIPTION:
URL:https://knox.utoronto.ca/event/chapel-2/2025-04-08/
END:VEVENT
BEGIN:VEVENT
DTSTART;TZID=America/Toronto:20250408T161500
DTEND;TZID=America/Toronto:20250408T170000
DTSTAMP:20260422T131145
CREATED:20190808T203259Z
LAST-MODIFIED:20190808T205143Z
UID:10003010-1744128900-1744131600@knox.utoronto.ca
SUMMARY:Community Worship Service Starts
DESCRIPTION:
URL:https://knox.utoronto.ca/event/community-worship-service-starts-weekly/2025-04-08/
END:VEVENT
BEGIN:VEVENT
DTSTART;VALUE=DATE:20250413
DTEND;VALUE=DATE:20250414
DTSTAMP:20260422T131145
CREATED:20250109T144619Z
LAST-MODIFIED:20250109T144619Z
UID:10003560-1744502400-1744588799@knox.utoronto.ca
SUMMARY:Palm Sunday
DESCRIPTION:
URL:https://knox.utoronto.ca/event/palm-sunday/
END:VEVENT
BEGIN:VEVENT
DTSTART;VALUE=DATE:20250415
DTEND;VALUE=DATE:20250416
DTSTAMP:20260422T131145
CREATED:20250408T171822Z
LAST-MODIFIED:20250408T171822Z
UID:10003568-1744675200-1744761599@knox.utoronto.ca
SUMMARY:MPS Domestic Application Deadline
DESCRIPTION:
URL:https://knox.utoronto.ca/event/mps-domestic-application-deadline/
END:VEVENT
BEGIN:VEVENT
DTSTART;TZID=America/Toronto:20250415T131500
DTEND;TZID=America/Toronto:20250415T140000
DTSTAMP:20260422T131145
CREATED:20240109T153146Z
LAST-MODIFIED:20240305T164837Z
UID:10003462-1744722900-1744725600@knox.utoronto.ca
SUMMARY:Chapel
DESCRIPTION:
URL:https://knox.utoronto.ca/event/chapel-2/2025-04-15/
END:VEVENT
BEGIN:VEVENT
DTSTART;TZID=America/Toronto:20250415T161500
DTEND;TZID=America/Toronto:20250415T170000
DTSTAMP:20260422T131145
CREATED:20190808T203259Z
LAST-MODIFIED:20190808T205143Z
UID:10003011-1744733700-1744736400@knox.utoronto.ca
SUMMARY:Community Worship Service Starts
DESCRIPTION:
URL:https://knox.utoronto.ca/event/community-worship-service-starts-weekly/2025-04-15/
END:VEVENT
BEGIN:VEVENT
DTSTART;VALUE=DATE:20250418
DTEND;VALUE=DATE:20250419
DTSTAMP:20260422T131145
CREATED:20250109T143517Z
LAST-MODIFIED:20250109T143517Z
UID:10003553-1744934400-1745020799@knox.utoronto.ca
SUMMARY:Good Friday (College Closed)
DESCRIPTION:
URL:https://knox.utoronto.ca/event/good-friday-college-closed-3/
END:VEVENT
BEGIN:VEVENT
DTSTART;VALUE=DATE:20250420
DTEND;VALUE=DATE:20250421
DTSTAMP:20260422T131145
CREATED:20250109T143606Z
LAST-MODIFIED:20250109T143606Z
UID:10003554-1745107200-1745193599@knox.utoronto.ca
SUMMARY:Easter Sunday
DESCRIPTION:
URL:https://knox.utoronto.ca/event/easter-sunday/
END:VEVENT
BEGIN:VEVENT
DTSTART;TZID=America/Toronto:20250422T131500
DTEND;TZID=America/Toronto:20250422T140000
DTSTAMP:20260422T131145
CREATED:20240109T153146Z
LAST-MODIFIED:20240305T164837Z
UID:10003463-1745327700-1745330400@knox.utoronto.ca
SUMMARY:Chapel
DESCRIPTION:
URL:https://knox.utoronto.ca/event/chapel-2/2025-04-22/
END:VEVENT
BEGIN:VEVENT
DTSTART;TZID=America/Toronto:20250422T161500
DTEND;TZID=America/Toronto:20250422T170000
DTSTAMP:20260422T131145
CREATED:20190808T203259Z
LAST-MODIFIED:20190808T205143Z
UID:10003012-1745338500-1745341200@knox.utoronto.ca
SUMMARY:Community Worship Service Starts
DESCRIPTION:
URL:https://knox.utoronto.ca/event/community-worship-service-starts-weekly/2025-04-22/
END:VEVENT
BEGIN:VEVENT
DTSTART;TZID=America/Toronto:20250429T131500
DTEND;TZID=America/Toronto:20250429T140000
DTSTAMP:20260422T131145
CREATED:20240109T153146Z
LAST-MODIFIED:20240305T164837Z
UID:10003464-1745932500-1745935200@knox.utoronto.ca
SUMMARY:Chapel
DESCRIPTION:
URL:https://knox.utoronto.ca/event/chapel-2/2025-04-29/
END:VEVENT
BEGIN:VEVENT
DTSTART;TZID=America/Toronto:20250429T161500
DTEND;TZID=America/Toronto:20250429T170000
DTSTAMP:20260422T131145
CREATED:20190808T203259Z
LAST-MODIFIED:20190808T205143Z
UID:10003013-1745943300-1745946000@knox.utoronto.ca
SUMMARY:Community Worship Service Starts
DESCRIPTION:
URL:https://knox.utoronto.ca/event/community-worship-service-starts-weekly/2025-04-29/
END:VEVENT
BEGIN:VEVENT
DTSTART;VALUE=DATE:20250430
DTEND;VALUE=DATE:20250501
DTSTAMP:20260422T131145
CREATED:20241108T184500Z
LAST-MODIFIED:20241108T184500Z
UID:10003256-1745971200-1746057599@knox.utoronto.ca
SUMMARY:MPS\, SCP Cert. application to TST due
DESCRIPTION:
URL:https://knox.utoronto.ca/event/mps-scp-cert-application-to-tst-due-2/
END:VEVENT
END:VCALENDAR