BEGIN:VCALENDAR
VERSION:2.0
PRODID:-//Knox College, Canada - ECPv6.15.18//NONSGML v1.0//EN
CALSCALE:GREGORIAN
METHOD:PUBLISH
X-ORIGINAL-URL:https://knox.utoronto.ca
X-WR-CALDESC:Events for Knox College, Canada
REFRESH-INTERVAL;VALUE=DURATION:PT1H
X-Robots-Tag:noindex
X-PUBLISHED-TTL:PT1H
BEGIN:VTIMEZONE
TZID:America/Toronto
BEGIN:DAYLIGHT
TZOFFSETFROM:-0500
TZOFFSETTO:-0400
TZNAME:EDT
DTSTART:20230312T070000
END:DAYLIGHT
BEGIN:STANDARD
TZOFFSETFROM:-0400
TZOFFSETTO:-0500
TZNAME:EST
DTSTART:20231105T060000
END:STANDARD
BEGIN:DAYLIGHT
TZOFFSETFROM:-0500
TZOFFSETTO:-0400
TZNAME:EDT
DTSTART:20240310T070000
END:DAYLIGHT
BEGIN:STANDARD
TZOFFSETFROM:-0400
TZOFFSETTO:-0500
TZNAME:EST
DTSTART:20241103T060000
END:STANDARD
BEGIN:DAYLIGHT
TZOFFSETFROM:-0500
TZOFFSETTO:-0400
TZNAME:EDT
DTSTART:20250309T070000
END:DAYLIGHT
BEGIN:STANDARD
TZOFFSETFROM:-0400
TZOFFSETTO:-0500
TZNAME:EST
DTSTART:20251102T060000
END:STANDARD
END:VTIMEZONE
BEGIN:VEVENT
DTSTART;VALUE=DATE:20241028
DTEND;VALUE=DATE:20241102
DTSTAMP:20260422T205632
CREATED:20241023T152824Z
LAST-MODIFIED:20241023T152824Z
UID:10003221-1730073600-1730505599@knox.utoronto.ca
SUMMARY:Reading Week
DESCRIPTION:
URL:https://knox.utoronto.ca/event/reading-week-6/
END:VEVENT
BEGIN:VEVENT
DTSTART;VALUE=DATE:20241105
DTEND;VALUE=DATE:20241106
DTSTAMP:20260422T205632
CREATED:20240715T060325Z
LAST-MODIFIED:20240715T060325Z
UID:10003506-1730764800-1730851199@knox.utoronto.ca
SUMMARY:Knox College's 180th Anniversary
DESCRIPTION:
URL:https://knox.utoronto.ca/event/knox-colleges-180th-anniversary/
END:VEVENT
BEGIN:VEVENT
DTSTART;TZID=America/Toronto:20241105T131500
DTEND;TZID=America/Toronto:20241105T140000
DTSTAMP:20260422T205632
CREATED:20240109T153146Z
LAST-MODIFIED:20240305T164837Z
UID:10003438-1730812500-1730815200@knox.utoronto.ca
SUMMARY:Chapel
DESCRIPTION:
URL:https://knox.utoronto.ca/event/chapel-2/2024-11-05/
END:VEVENT
BEGIN:VEVENT
DTSTART;TZID=America/Toronto:20241105T131500
DTEND;TZID=America/Toronto:20241105T140000
DTSTAMP:20260422T205632
CREATED:20240909T132650Z
LAST-MODIFIED:20241023T152930Z
UID:10003522-1730812500-1730815200@knox.utoronto.ca
SUMMARY:Chapel
DESCRIPTION:
URL:https://knox.utoronto.ca/event/chapel-3/2024-11-05/
END:VEVENT
BEGIN:VEVENT
DTSTART;TZID=America/Toronto:20241105T161500
DTEND;TZID=America/Toronto:20241105T170000
DTSTAMP:20260422T205632
CREATED:20190808T203259Z
LAST-MODIFIED:20190808T205143Z
UID:10002988-1730823300-1730826000@knox.utoronto.ca
SUMMARY:Community Worship Service Starts
DESCRIPTION:
URL:https://knox.utoronto.ca/event/community-worship-service-starts-weekly/2024-11-05/
END:VEVENT
BEGIN:VEVENT
DTSTART;TZID=America/Toronto:20241108T080000
DTEND;TZID=America/Toronto:20241108T170000
DTSTAMP:20260422T205632
CREATED:20241108T184018Z
LAST-MODIFIED:20241108T184018Z
UID:10003247-1731052800-1731085200@knox.utoronto.ca
SUMMARY:Meet the CPE Supervisors (for MPS and MDiv)
DESCRIPTION:Zoom event for Knox and Emmanuel students and in person for Knox students. Knox in person please rsvp to Kylah so we can order pizzas.  12:00 – 1 pm (one hour)  (To RSPV for lunch – knox.assistantregistrar@utoronto.ca and just say coming on 19th) \nZoom Link:  https://us02web.zoom.us/j/81362250621 \n-Hear from CPE supervisors from Mackenzie Health (in Vaughan)\, Lakeridge Health (Oshawa)\, University Health Network (downtown Toronto)\, Sinai Health (Toronto)\, CAMH (Toronto)\, Scarborough Health (Scarborough)\, Hamilton Health Sciences (Hamilton) and Niagara Health (St Catherine’s). Some supervisors will come in person.  \n-Applications for summer fulltime practicums are due by December 31st\, found at cpe-toronto.ca \n We will record both events and put them on the Knox College MPS Program KNX1000Quercus site. This is the site that holds all of the information for the MPS students. We will also post todays recording of the info session on practicums on this site too. \n MPS students – Please complete the Learning Module for Practicums located on the KNX1000 Quercus site – mandatory for all first year students and takes about 15 minutes. Do the module and it will help you understand the components of practicums! Angela will meet with students wanting a summer 2025 or a fall/winter 25/26 practicum in November. Reach out and request a time.
URL:https://knox.utoronto.ca/event/meet-the-cpe-supervisors-for-mps-and-mdiv/
END:VEVENT
BEGIN:VEVENT
DTSTART;TZID=America/Toronto:20241108T080000
DTEND;TZID=America/Toronto:20241108T170000
DTSTAMP:20260422T205632
CREATED:20241108T184347Z
LAST-MODIFIED:20241108T184347Z
UID:10003254-1731052800-1731085200@knox.utoronto.ca
SUMMARY:MPS\, SCP Cert. application to TST due
DESCRIPTION:
URL:https://knox.utoronto.ca/event/mps-scp-cert-application-to-tst-due/
END:VEVENT
BEGIN:VEVENT
DTSTART;VALUE=DATE:20241111
DTEND;VALUE=DATE:20241112
DTSTAMP:20260422T205632
CREATED:20240715T062054Z
LAST-MODIFIED:20240715T062140Z
UID:10003514-1731283200-1731369599@knox.utoronto.ca
SUMMARY:Remembrance Day
DESCRIPTION:
URL:https://knox.utoronto.ca/event/remembrance-day/
END:VEVENT
BEGIN:VEVENT
DTSTART;TZID=America/Toronto:20241112T131500
DTEND;TZID=America/Toronto:20241112T140000
DTSTAMP:20260422T205632
CREATED:20240109T153146Z
LAST-MODIFIED:20240305T164837Z
UID:10003439-1731417300-1731420000@knox.utoronto.ca
SUMMARY:Chapel
DESCRIPTION:
URL:https://knox.utoronto.ca/event/chapel-2/2024-11-12/
END:VEVENT
BEGIN:VEVENT
DTSTART;TZID=America/Toronto:20241112T131500
DTEND;TZID=America/Toronto:20241112T140000
DTSTAMP:20260422T205632
CREATED:20240909T132650Z
LAST-MODIFIED:20241023T152930Z
UID:10003523-1731417300-1731420000@knox.utoronto.ca
SUMMARY:Chapel
DESCRIPTION:
URL:https://knox.utoronto.ca/event/chapel-3/2024-11-12/
END:VEVENT
BEGIN:VEVENT
DTSTART;TZID=America/Toronto:20241112T161500
DTEND;TZID=America/Toronto:20241112T170000
DTSTAMP:20260422T205632
CREATED:20190808T203259Z
LAST-MODIFIED:20190808T205143Z
UID:10002989-1731428100-1731430800@knox.utoronto.ca
SUMMARY:Community Worship Service Starts
DESCRIPTION:
URL:https://knox.utoronto.ca/event/community-worship-service-starts-weekly/2024-11-12/
END:VEVENT
BEGIN:VEVENT
DTSTART;TZID=America/Toronto:20241113T120000
DTEND;TZID=America/Toronto:20241113T130000
DTSTAMP:20260422T205632
CREATED:20241108T181412Z
LAST-MODIFIED:20241108T183328Z
UID:10003234-1731499200-1731502800@knox.utoronto.ca
SUMMARY:Meet the Counselling Center Supervisors (MPS) online
DESCRIPTION:Zoom event from 12 – 1 pm (one hour) for Knox Students with 4 counselling centre supervisors\, 2 social service agencies and one prison supervisor sharing about their sites and how to apply. \n– https://us02web.zoom.us/j/86490927484
URL:https://knox.utoronto.ca/event/meet-the-counselling-center-supervisors-mps-online/
END:VEVENT
BEGIN:VEVENT
DTSTART;TZID=America/Toronto:20241119T131500
DTEND;TZID=America/Toronto:20241119T140000
DTSTAMP:20260422T205632
CREATED:20240109T153146Z
LAST-MODIFIED:20240305T164837Z
UID:10003440-1732022100-1732024800@knox.utoronto.ca
SUMMARY:Chapel
DESCRIPTION:
URL:https://knox.utoronto.ca/event/chapel-2/2024-11-19/
END:VEVENT
BEGIN:VEVENT
DTSTART;TZID=America/Toronto:20241119T131500
DTEND;TZID=America/Toronto:20241119T140000
DTSTAMP:20260422T205632
CREATED:20240909T132650Z
LAST-MODIFIED:20241023T152930Z
UID:10003524-1732022100-1732024800@knox.utoronto.ca
SUMMARY:Chapel
DESCRIPTION:
URL:https://knox.utoronto.ca/event/chapel-3/2024-11-19/
END:VEVENT
BEGIN:VEVENT
DTSTART;TZID=America/Toronto:20241119T161500
DTEND;TZID=America/Toronto:20241119T170000
DTSTAMP:20260422T205632
CREATED:20190808T203259Z
LAST-MODIFIED:20190808T205143Z
UID:10002990-1732032900-1732035600@knox.utoronto.ca
SUMMARY:Community Worship Service Starts
DESCRIPTION:
URL:https://knox.utoronto.ca/event/community-worship-service-starts-weekly/2024-11-19/
END:VEVENT
BEGIN:VEVENT
DTSTART;TZID=America/Toronto:20241126T131500
DTEND;TZID=America/Toronto:20241126T140000
DTSTAMP:20260422T205632
CREATED:20240109T153146Z
LAST-MODIFIED:20240305T164837Z
UID:10003441-1732626900-1732629600@knox.utoronto.ca
SUMMARY:Chapel
DESCRIPTION:
URL:https://knox.utoronto.ca/event/chapel-2/2024-11-26/
END:VEVENT
BEGIN:VEVENT
DTSTART;TZID=America/Toronto:20241126T131500
DTEND;TZID=America/Toronto:20241126T140000
DTSTAMP:20260422T205632
CREATED:20240909T132650Z
LAST-MODIFIED:20241023T152930Z
UID:10003525-1732626900-1732629600@knox.utoronto.ca
SUMMARY:Chapel
DESCRIPTION:
URL:https://knox.utoronto.ca/event/chapel-3/2024-11-26/
END:VEVENT
BEGIN:VEVENT
DTSTART;TZID=America/Toronto:20241126T161500
DTEND;TZID=America/Toronto:20241126T170000
DTSTAMP:20260422T205632
CREATED:20190808T203259Z
LAST-MODIFIED:20190808T205143Z
UID:10002991-1732637700-1732640400@knox.utoronto.ca
SUMMARY:Community Worship Service Starts
DESCRIPTION:
URL:https://knox.utoronto.ca/event/community-worship-service-starts-weekly/2024-11-26/
END:VEVENT
END:VCALENDAR