BEGIN:VCALENDAR
VERSION:2.0
PRODID:-//Knox College, Canada - ECPv6.15.18//NONSGML v1.0//EN
CALSCALE:GREGORIAN
METHOD:PUBLISH
X-WR-CALNAME:Knox College, Canada
X-ORIGINAL-URL:https://knox.utoronto.ca
X-WR-CALDESC:Events for Knox College, Canada
REFRESH-INTERVAL;VALUE=DURATION:PT1H
X-Robots-Tag:noindex
X-PUBLISHED-TTL:PT1H
BEGIN:VTIMEZONE
TZID:America/Toronto
BEGIN:DAYLIGHT
TZOFFSETFROM:-0500
TZOFFSETTO:-0400
TZNAME:EDT
DTSTART:20230312T070000
END:DAYLIGHT
BEGIN:STANDARD
TZOFFSETFROM:-0400
TZOFFSETTO:-0500
TZNAME:EST
DTSTART:20231105T060000
END:STANDARD
BEGIN:DAYLIGHT
TZOFFSETFROM:-0500
TZOFFSETTO:-0400
TZNAME:EDT
DTSTART:20240310T070000
END:DAYLIGHT
BEGIN:STANDARD
TZOFFSETFROM:-0400
TZOFFSETTO:-0500
TZNAME:EST
DTSTART:20241103T060000
END:STANDARD
BEGIN:DAYLIGHT
TZOFFSETFROM:-0500
TZOFFSETTO:-0400
TZNAME:EDT
DTSTART:20250309T070000
END:DAYLIGHT
BEGIN:STANDARD
TZOFFSETFROM:-0400
TZOFFSETTO:-0500
TZNAME:EST
DTSTART:20251102T060000
END:STANDARD
END:VTIMEZONE
BEGIN:VEVENT
DTSTART;TZID=America/Toronto:20240305T161500
DTEND;TZID=America/Toronto:20240305T170000
DTSTAMP:20260420T101857
CREATED:20190808T203259Z
LAST-MODIFIED:20190808T205143Z
UID:10002953-1709655300-1709658000@knox.utoronto.ca
SUMMARY:Community Worship Service Starts
DESCRIPTION:
URL:https://knox.utoronto.ca/event/community-worship-service-starts-weekly/2024-03-05/
END:VEVENT
BEGIN:VEVENT
DTSTART;TZID=America/Toronto:20240306T131500
DTEND;TZID=America/Toronto:20240306T140000
DTSTAMP:20260420T101857
CREATED:20240305T165133Z
LAST-MODIFIED:20240305T165133Z
UID:10003492-1709730900-1709733600@knox.utoronto.ca
SUMMARY:The Rev. Mary Fontaine
DESCRIPTION:Knox College is delighted to welcome The Rev. Mary Fontaine as our chapel guest preacher on Wednesday\, March 6th! You are invited to join us for a special service at 1:15pm in the Knox College Chapel.Mary currently serves as the Moderator of the 148th General Assembly of The Presbyterian Church in Canada and is Nehiyaw (Cree) from Mistawasis Nehiywak\, Saskatchewan\, where she grew up attending the Mistawasis Presbyterian Church with her family. As the Founding Director of Hummingbird Ministries (2005)\, an Indigenous-led healing and reconciliation ministry\, Mary discerns the Spirit at work in Indigenous wisdom and spirituality and sees how this can enhance the church she loves and grew up in. Through healing circles and the performing arts\, Hummingbird educates the public and raises the profile of Indigenous people\, especially Indigenous children.
URL:https://knox.utoronto.ca/event/the-rev-mary-fontaine/
LOCATION:Knox College Chapel
END:VEVENT
BEGIN:VEVENT
DTSTART;TZID=America/Toronto:20240312T120000
DTEND;TZID=America/Toronto:20240312T130000
DTSTAMP:20260420T101857
CREATED:20240227T142229Z
LAST-MODIFIED:20240229T135229Z
UID:10003454-1710244800-1710248400@knox.utoronto.ca
SUMMARY:MPS Information Session (online)
DESCRIPTION:March 12: Info Session/Q&A Event for Prospective Master of Pastoral Studies Students \nLooking to know more about our Master of Pastoral Studies (MPS) program? Working on your MPS application? Join Dr. Schmidt\, Rev. Dr. Yang\, and current MPS students for an MPS Info and Q&A Session online on Tuesday\, March 12\, noon to 1pm ET. Contact knox.admissions@utoronto.ca to register today! \n 
URL:https://knox.utoronto.ca/event/mpsinfo/
END:VEVENT
BEGIN:VEVENT
DTSTART;TZID=America/Toronto:20240312T131500
DTEND;TZID=America/Toronto:20240312T140000
DTSTAMP:20260420T101857
CREATED:20240109T153146Z
LAST-MODIFIED:20240305T164837Z
UID:10003404-1710249300-1710252000@knox.utoronto.ca
SUMMARY:Chapel
DESCRIPTION:
URL:https://knox.utoronto.ca/event/chapel-2/2024-03-12/
END:VEVENT
BEGIN:VEVENT
DTSTART;TZID=America/Toronto:20240312T161500
DTEND;TZID=America/Toronto:20240312T170000
DTSTAMP:20260420T101857
CREATED:20190808T203259Z
LAST-MODIFIED:20190808T205143Z
UID:10002954-1710260100-1710262800@knox.utoronto.ca
SUMMARY:Community Worship Service Starts
DESCRIPTION:
URL:https://knox.utoronto.ca/event/community-worship-service-starts-weekly/2024-03-12/
END:VEVENT
BEGIN:VEVENT
DTSTART;TZID=America/Toronto:20240319T131500
DTEND;TZID=America/Toronto:20240319T140000
DTSTAMP:20260420T101857
CREATED:20240109T153146Z
LAST-MODIFIED:20240305T164837Z
UID:10003405-1710854100-1710856800@knox.utoronto.ca
SUMMARY:Chapel
DESCRIPTION:
URL:https://knox.utoronto.ca/event/chapel-2/2024-03-19/
END:VEVENT
BEGIN:VEVENT
DTSTART;TZID=America/Toronto:20240319T161500
DTEND;TZID=America/Toronto:20240319T170000
DTSTAMP:20260420T101857
CREATED:20190808T203259Z
LAST-MODIFIED:20190808T205143Z
UID:10002955-1710864900-1710867600@knox.utoronto.ca
SUMMARY:Community Worship Service Starts
DESCRIPTION:
URL:https://knox.utoronto.ca/event/community-worship-service-starts-weekly/2024-03-19/
END:VEVENT
BEGIN:VEVENT
DTSTART;TZID=America/Toronto:20240326T131500
DTEND;TZID=America/Toronto:20240326T140000
DTSTAMP:20260420T101857
CREATED:20240109T153146Z
LAST-MODIFIED:20240305T164837Z
UID:10003406-1711458900-1711461600@knox.utoronto.ca
SUMMARY:Chapel
DESCRIPTION:
URL:https://knox.utoronto.ca/event/chapel-2/2024-03-26/
END:VEVENT
BEGIN:VEVENT
DTSTART;TZID=America/Toronto:20240326T161500
DTEND;TZID=America/Toronto:20240326T170000
DTSTAMP:20260420T101857
CREATED:20190808T203259Z
LAST-MODIFIED:20190808T205143Z
UID:10002956-1711469700-1711472400@knox.utoronto.ca
SUMMARY:Community Worship Service Starts
DESCRIPTION:
URL:https://knox.utoronto.ca/event/community-worship-service-starts-weekly/2024-03-26/
END:VEVENT
BEGIN:VEVENT
DTSTART;VALUE=DATE:20240329
DTEND;VALUE=DATE:20240330
DTSTAMP:20260420T101857
CREATED:20240109T152058Z
LAST-MODIFIED:20240109T152058Z
UID:10003397-1711670400-1711756799@knox.utoronto.ca
SUMMARY:Good Friday
DESCRIPTION:
URL:https://knox.utoronto.ca/event/good-friday/
END:VEVENT
END:VCALENDAR