BEGIN:VCALENDAR
VERSION:2.0
PRODID:-//Knox College, Canada - ECPv6.15.18//NONSGML v1.0//EN
CALSCALE:GREGORIAN
METHOD:PUBLISH
X-ORIGINAL-URL:https://knox.utoronto.ca
X-WR-CALDESC:Events for Knox College, Canada
REFRESH-INTERVAL;VALUE=DURATION:PT1H
X-Robots-Tag:noindex
X-PUBLISHED-TTL:PT1H
BEGIN:VTIMEZONE
TZID:America/Toronto
BEGIN:DAYLIGHT
TZOFFSETFROM:-0500
TZOFFSETTO:-0400
TZNAME:EDT
DTSTART:20230312T070000
END:DAYLIGHT
BEGIN:STANDARD
TZOFFSETFROM:-0400
TZOFFSETTO:-0500
TZNAME:EST
DTSTART:20231105T060000
END:STANDARD
BEGIN:DAYLIGHT
TZOFFSETFROM:-0500
TZOFFSETTO:-0400
TZNAME:EDT
DTSTART:20240310T070000
END:DAYLIGHT
BEGIN:STANDARD
TZOFFSETFROM:-0400
TZOFFSETTO:-0500
TZNAME:EST
DTSTART:20241103T060000
END:STANDARD
BEGIN:DAYLIGHT
TZOFFSETFROM:-0500
TZOFFSETTO:-0400
TZNAME:EDT
DTSTART:20250309T070000
END:DAYLIGHT
BEGIN:STANDARD
TZOFFSETFROM:-0400
TZOFFSETTO:-0500
TZNAME:EST
DTSTART:20251102T060000
END:STANDARD
END:VTIMEZONE
BEGIN:VEVENT
DTSTART;TZID=America/Toronto:20240206T131500
DTEND;TZID=America/Toronto:20240206T140000
DTSTAMP:20260422T194845
CREATED:20240109T152911Z
LAST-MODIFIED:20240109T152911Z
UID:10003402-1707225300-1707228000@knox.utoronto.ca
SUMMARY:Chapel
DESCRIPTION:
URL:https://knox.utoronto.ca/event/chapel/2024-02-06/
END:VEVENT
BEGIN:VEVENT
DTSTART;TZID=America/Toronto:20240206T161500
DTEND;TZID=America/Toronto:20240206T170000
DTSTAMP:20260422T194845
CREATED:20190808T203259Z
LAST-MODIFIED:20190808T205143Z
UID:10002949-1707236100-1707238800@knox.utoronto.ca
SUMMARY:Community Worship Service Starts
DESCRIPTION:
URL:https://knox.utoronto.ca/event/community-worship-service-starts-weekly/2024-02-06/
END:VEVENT
BEGIN:VEVENT
DTSTART;TZID=America/Toronto:20240213T131500
DTEND;TZID=America/Toronto:20240213T140000
DTSTAMP:20260422T194845
CREATED:20240109T152911Z
LAST-MODIFIED:20240109T152911Z
UID:10003403-1707830100-1707832800@knox.utoronto.ca
SUMMARY:Chapel
DESCRIPTION:
URL:https://knox.utoronto.ca/event/chapel/2024-02-13/
END:VEVENT
BEGIN:VEVENT
DTSTART;TZID=America/Toronto:20240213T161500
DTEND;TZID=America/Toronto:20240213T170000
DTSTAMP:20260422T194845
CREATED:20190808T203259Z
LAST-MODIFIED:20190808T205143Z
UID:10002950-1707840900-1707843600@knox.utoronto.ca
SUMMARY:Community Worship Service Starts
DESCRIPTION:
URL:https://knox.utoronto.ca/event/community-worship-service-starts-weekly/2024-02-13/
END:VEVENT
BEGIN:VEVENT
DTSTART;VALUE=DATE:20240219
DTEND;VALUE=DATE:20240224
DTSTAMP:20260422T194845
CREATED:20230519T192418Z
LAST-MODIFIED:20230519T192418Z
UID:10003375-1708300800-1708732799@knox.utoronto.ca
SUMMARY:Reading Week
DESCRIPTION:
URL:https://knox.utoronto.ca/event/reading-week-5/
END:VEVENT
BEGIN:VEVENT
DTSTART;TZID=America/Toronto:20240220T161500
DTEND;TZID=America/Toronto:20240220T170000
DTSTAMP:20260422T194845
CREATED:20190808T203259Z
LAST-MODIFIED:20190808T205143Z
UID:10002951-1708445700-1708448400@knox.utoronto.ca
SUMMARY:Community Worship Service Starts
DESCRIPTION:
URL:https://knox.utoronto.ca/event/community-worship-service-starts-weekly/2024-02-20/
END:VEVENT
BEGIN:VEVENT
DTSTART;TZID=America/Toronto:20240227T161500
DTEND;TZID=America/Toronto:20240227T170000
DTSTAMP:20260422T194845
CREATED:20190808T203259Z
LAST-MODIFIED:20190808T205143Z
UID:10002952-1709050500-1709053200@knox.utoronto.ca
SUMMARY:Community Worship Service Starts
DESCRIPTION:
URL:https://knox.utoronto.ca/event/community-worship-service-starts-weekly/2024-02-27/
END:VEVENT
END:VCALENDAR