BEGIN:VCALENDAR
VERSION:2.0
PRODID:-//Knox College, Canada - ECPv6.15.18//NONSGML v1.0//EN
CALSCALE:GREGORIAN
METHOD:PUBLISH
X-ORIGINAL-URL:https://knox.utoronto.ca
X-WR-CALDESC:Events for Knox College, Canada
REFRESH-INTERVAL;VALUE=DURATION:PT1H
X-Robots-Tag:noindex
X-PUBLISHED-TTL:PT1H
BEGIN:VTIMEZONE
TZID:America/Toronto
BEGIN:DAYLIGHT
TZOFFSETFROM:-0500
TZOFFSETTO:-0400
TZNAME:EDT
DTSTART:20220313T070000
END:DAYLIGHT
BEGIN:STANDARD
TZOFFSETFROM:-0400
TZOFFSETTO:-0500
TZNAME:EST
DTSTART:20221106T060000
END:STANDARD
BEGIN:DAYLIGHT
TZOFFSETFROM:-0500
TZOFFSETTO:-0400
TZNAME:EDT
DTSTART:20230312T070000
END:DAYLIGHT
BEGIN:STANDARD
TZOFFSETFROM:-0400
TZOFFSETTO:-0500
TZNAME:EST
DTSTART:20231105T060000
END:STANDARD
BEGIN:DAYLIGHT
TZOFFSETFROM:-0500
TZOFFSETTO:-0400
TZNAME:EDT
DTSTART:20240310T070000
END:DAYLIGHT
BEGIN:STANDARD
TZOFFSETFROM:-0400
TZOFFSETTO:-0500
TZNAME:EST
DTSTART:20241103T060000
END:STANDARD
BEGIN:DAYLIGHT
TZOFFSETFROM:-0500
TZOFFSETTO:-0400
TZNAME:EDT
DTSTART:20250309T070000
END:DAYLIGHT
BEGIN:STANDARD
TZOFFSETFROM:-0400
TZOFFSETTO:-0500
TZNAME:EST
DTSTART:20251102T060000
END:STANDARD
END:VTIMEZONE
BEGIN:VEVENT
DTSTART;VALUE=DATE:20231220
DTEND;VALUE=DATE:20240103
DTSTAMP:20260422T160144
CREATED:20231102T144614Z
LAST-MODIFIED:20231121T162155Z
UID:10003394-1703030400-1704239999@knox.utoronto.ca
SUMMARY:Christmas break (College closed)
DESCRIPTION:
URL:https://knox.utoronto.ca/event/christmas-break-college-closed-3/
END:VEVENT
BEGIN:VEVENT
DTSTART;TZID=America/Toronto:20240102T161500
DTEND;TZID=America/Toronto:20240102T170000
DTSTAMP:20260422T160144
CREATED:20190808T203259Z
LAST-MODIFIED:20190808T205143Z
UID:10002944-1704212100-1704214800@knox.utoronto.ca
SUMMARY:Community Worship Service Starts
DESCRIPTION:
URL:https://knox.utoronto.ca/event/community-worship-service-starts-weekly/2024-01-02/
END:VEVENT
BEGIN:VEVENT
DTSTART;VALUE=DATE:20240108
DTEND;VALUE=DATE:20240109
DTSTAMP:20260422T160144
CREATED:20230519T192330Z
LAST-MODIFIED:20230519T192330Z
UID:10003374-1704672000-1704758399@knox.utoronto.ca
SUMMARY:Winter classes begin
DESCRIPTION:
URL:https://knox.utoronto.ca/event/winter-classes-begin-2/
END:VEVENT
BEGIN:VEVENT
DTSTART;TZID=America/Toronto:20240109T131500
DTEND;TZID=America/Toronto:20240109T140000
DTSTAMP:20260422T160144
CREATED:20240109T152911Z
LAST-MODIFIED:20240109T152911Z
UID:10003398-1704806100-1704808800@knox.utoronto.ca
SUMMARY:Chapel
DESCRIPTION:
URL:https://knox.utoronto.ca/event/chapel/2024-01-09/
END:VEVENT
BEGIN:VEVENT
DTSTART;TZID=America/Toronto:20240109T161500
DTEND;TZID=America/Toronto:20240109T170000
DTSTAMP:20260422T160144
CREATED:20190808T203259Z
LAST-MODIFIED:20190808T205143Z
UID:10002945-1704816900-1704819600@knox.utoronto.ca
SUMMARY:Community Worship Service Starts
DESCRIPTION:
URL:https://knox.utoronto.ca/event/community-worship-service-starts-weekly/2024-01-09/
END:VEVENT
BEGIN:VEVENT
DTSTART;TZID=America/Toronto:20240116T131500
DTEND;TZID=America/Toronto:20240116T140000
DTSTAMP:20260422T160144
CREATED:20240109T152911Z
LAST-MODIFIED:20240109T152911Z
UID:10003399-1705410900-1705413600@knox.utoronto.ca
SUMMARY:Chapel
DESCRIPTION:
URL:https://knox.utoronto.ca/event/chapel/2024-01-16/
END:VEVENT
BEGIN:VEVENT
DTSTART;TZID=America/Toronto:20240116T161500
DTEND;TZID=America/Toronto:20240116T170000
DTSTAMP:20260422T160144
CREATED:20190808T203259Z
LAST-MODIFIED:20190808T205143Z
UID:10002946-1705421700-1705424400@knox.utoronto.ca
SUMMARY:Community Worship Service Starts
DESCRIPTION:
URL:https://knox.utoronto.ca/event/community-worship-service-starts-weekly/2024-01-16/
END:VEVENT
BEGIN:VEVENT
DTSTART;TZID=America/Toronto:20240123T131500
DTEND;TZID=America/Toronto:20240123T140000
DTSTAMP:20260422T160144
CREATED:20240109T152911Z
LAST-MODIFIED:20240109T152911Z
UID:10003400-1706015700-1706018400@knox.utoronto.ca
SUMMARY:Chapel
DESCRIPTION:
URL:https://knox.utoronto.ca/event/chapel/2024-01-23/
END:VEVENT
BEGIN:VEVENT
DTSTART;TZID=America/Toronto:20240123T161500
DTEND;TZID=America/Toronto:20240123T170000
DTSTAMP:20260422T160144
CREATED:20190808T203259Z
LAST-MODIFIED:20190808T205143Z
UID:10002947-1706026500-1706029200@knox.utoronto.ca
SUMMARY:Community Worship Service Starts
DESCRIPTION:
URL:https://knox.utoronto.ca/event/community-worship-service-starts-weekly/2024-01-23/
END:VEVENT
BEGIN:VEVENT
DTSTART;TZID=America/Toronto:20240130T131500
DTEND;TZID=America/Toronto:20240130T140000
DTSTAMP:20260422T160144
CREATED:20240109T152911Z
LAST-MODIFIED:20240109T152911Z
UID:10003401-1706620500-1706623200@knox.utoronto.ca
SUMMARY:Chapel
DESCRIPTION:
URL:https://knox.utoronto.ca/event/chapel/2024-01-30/
END:VEVENT
BEGIN:VEVENT
DTSTART;TZID=America/Toronto:20240130T161500
DTEND;TZID=America/Toronto:20240130T170000
DTSTAMP:20260422T160144
CREATED:20190808T203259Z
LAST-MODIFIED:20190808T205143Z
UID:10002948-1706631300-1706634000@knox.utoronto.ca
SUMMARY:Community Worship Service Starts
DESCRIPTION:
URL:https://knox.utoronto.ca/event/community-worship-service-starts-weekly/2024-01-30/
END:VEVENT
END:VCALENDAR