BEGIN:VCALENDAR
VERSION:2.0
PRODID:-//Knox College, Canada - ECPv6.15.18//NONSGML v1.0//EN
CALSCALE:GREGORIAN
METHOD:PUBLISH
X-ORIGINAL-URL:https://knox.utoronto.ca
X-WR-CALDESC:Events for Knox College, Canada
REFRESH-INTERVAL;VALUE=DURATION:PT1H
X-Robots-Tag:noindex
X-PUBLISHED-TTL:PT1H
BEGIN:VTIMEZONE
TZID:America/Toronto
BEGIN:DAYLIGHT
TZOFFSETFROM:-0500
TZOFFSETTO:-0400
TZNAME:EDT
DTSTART:20200308T070000
END:DAYLIGHT
BEGIN:STANDARD
TZOFFSETFROM:-0400
TZOFFSETTO:-0500
TZNAME:EST
DTSTART:20201101T060000
END:STANDARD
BEGIN:DAYLIGHT
TZOFFSETFROM:-0500
TZOFFSETTO:-0400
TZNAME:EDT
DTSTART:20210314T070000
END:DAYLIGHT
BEGIN:STANDARD
TZOFFSETFROM:-0400
TZOFFSETTO:-0500
TZNAME:EST
DTSTART:20211107T060000
END:STANDARD
BEGIN:DAYLIGHT
TZOFFSETFROM:-0500
TZOFFSETTO:-0400
TZNAME:EDT
DTSTART:20220313T070000
END:DAYLIGHT
BEGIN:STANDARD
TZOFFSETFROM:-0400
TZOFFSETTO:-0500
TZNAME:EST
DTSTART:20221106T060000
END:STANDARD
END:VTIMEZONE
BEGIN:VEVENT
DTSTART;TZID=America/Toronto:20210601T161500
DTEND;TZID=America/Toronto:20210601T170000
DTSTAMP:20260422T160144
CREATED:20190808T203259Z
LAST-MODIFIED:20190808T205143Z
UID:10002809-1622564100-1622566800@knox.utoronto.ca
SUMMARY:Community Worship Service Starts
DESCRIPTION:
URL:https://knox.utoronto.ca/event/community-worship-service-starts-weekly/2021-06-01/
END:VEVENT
BEGIN:VEVENT
DTSTART;TZID=America/Toronto:20210608T161500
DTEND;TZID=America/Toronto:20210608T170000
DTSTAMP:20260422T160144
CREATED:20190808T203259Z
LAST-MODIFIED:20190808T205143Z
UID:10002810-1623168900-1623171600@knox.utoronto.ca
SUMMARY:Community Worship Service Starts
DESCRIPTION:
URL:https://knox.utoronto.ca/event/community-worship-service-starts-weekly/2021-06-08/
END:VEVENT
BEGIN:VEVENT
DTSTART;TZID=America/Toronto:20210615T161500
DTEND;TZID=America/Toronto:20210615T170000
DTSTAMP:20260422T160144
CREATED:20190808T203259Z
LAST-MODIFIED:20190808T205143Z
UID:10002811-1623773700-1623776400@knox.utoronto.ca
SUMMARY:Community Worship Service Starts
DESCRIPTION:
URL:https://knox.utoronto.ca/event/community-worship-service-starts-weekly/2021-06-15/
END:VEVENT
BEGIN:VEVENT
DTSTART;TZID=America/Toronto:20210622T161500
DTEND;TZID=America/Toronto:20210622T170000
DTSTAMP:20260422T160144
CREATED:20190808T203259Z
LAST-MODIFIED:20190808T205143Z
UID:10002812-1624378500-1624381200@knox.utoronto.ca
SUMMARY:Community Worship Service Starts
DESCRIPTION:
URL:https://knox.utoronto.ca/event/community-worship-service-starts-weekly/2021-06-22/
END:VEVENT
BEGIN:VEVENT
DTSTART;TZID=America/Toronto:20210629T161500
DTEND;TZID=America/Toronto:20210629T170000
DTSTAMP:20260422T160144
CREATED:20190808T203259Z
LAST-MODIFIED:20190808T205143Z
UID:10002813-1624983300-1624986000@knox.utoronto.ca
SUMMARY:Community Worship Service Starts
DESCRIPTION:
URL:https://knox.utoronto.ca/event/community-worship-service-starts-weekly/2021-06-29/
END:VEVENT
END:VCALENDAR