BEGIN:VCALENDAR
VERSION:2.0
PRODID:-//Knox College, Canada - ECPv6.15.18//NONSGML v1.0//EN
CALSCALE:GREGORIAN
METHOD:PUBLISH
X-ORIGINAL-URL:https://knox.utoronto.ca
X-WR-CALDESC:Events for Knox College, Canada
REFRESH-INTERVAL;VALUE=DURATION:PT1H
X-Robots-Tag:noindex
X-PUBLISHED-TTL:PT1H
BEGIN:VTIMEZONE
TZID:America/Toronto
BEGIN:DAYLIGHT
TZOFFSETFROM:-0500
TZOFFSETTO:-0400
TZNAME:EDT
DTSTART:20200308T070000
END:DAYLIGHT
BEGIN:STANDARD
TZOFFSETFROM:-0400
TZOFFSETTO:-0500
TZNAME:EST
DTSTART:20201101T060000
END:STANDARD
BEGIN:DAYLIGHT
TZOFFSETFROM:-0500
TZOFFSETTO:-0400
TZNAME:EDT
DTSTART:20210314T070000
END:DAYLIGHT
BEGIN:STANDARD
TZOFFSETFROM:-0400
TZOFFSETTO:-0500
TZNAME:EST
DTSTART:20211107T060000
END:STANDARD
BEGIN:DAYLIGHT
TZOFFSETFROM:-0500
TZOFFSETTO:-0400
TZNAME:EDT
DTSTART:20220313T070000
END:DAYLIGHT
BEGIN:STANDARD
TZOFFSETFROM:-0400
TZOFFSETTO:-0500
TZNAME:EST
DTSTART:20221106T060000
END:STANDARD
END:VTIMEZONE
BEGIN:VEVENT
DTSTART;VALUE=DATE:20210402
DTEND;VALUE=DATE:20210403
DTSTAMP:20260422T181659
CREATED:20200602T205759Z
LAST-MODIFIED:20200602T205759Z
UID:10002705-1617321600-1617407999@knox.utoronto.ca
SUMMARY:Good Friday (College closed)
DESCRIPTION:
URL:https://knox.utoronto.ca/event/good-friday-college-closed/
END:VEVENT
BEGIN:VEVENT
DTSTART;VALUE=DATE:20210405
DTEND;VALUE=DATE:20210410
DTSTAMP:20260422T181659
CREATED:20200602T210257Z
LAST-MODIFIED:20201123T163545Z
UID:10003156-1617580800-1618012799@knox.utoronto.ca
SUMMARY:Last week of classes
DESCRIPTION:
URL:https://knox.utoronto.ca/event/last-week-of-classes-2/
END:VEVENT
BEGIN:VEVENT
DTSTART;TZID=America/Toronto:20210406T161500
DTEND;TZID=America/Toronto:20210406T170000
DTSTAMP:20260422T181659
CREATED:20190808T203259Z
LAST-MODIFIED:20190808T205143Z
UID:10002801-1617725700-1617728400@knox.utoronto.ca
SUMMARY:Community Worship Service Starts
DESCRIPTION:
URL:https://knox.utoronto.ca/event/community-worship-service-starts-weekly/2021-04-06/
END:VEVENT
BEGIN:VEVENT
DTSTART;TZID=America/Toronto:20210406T161500
DTEND;TZID=America/Toronto:20210406T170000
DTSTAMP:20260422T181659
CREATED:20201125T185515Z
LAST-MODIFIED:20201125T185515Z
UID:10003194-1617725700-1617728400@knox.utoronto.ca
SUMMARY:Chapel (virtual service)
DESCRIPTION:Email knox.college@utoronto.ca if you wish to attend chapel online. Or\, view services on Knox’s YouTube channel.
URL:https://knox.utoronto.ca/event/chapel-virtual-service-2/2021-04-06/
END:VEVENT
BEGIN:VEVENT
DTSTART;VALUE=DATE:20210412
DTEND;VALUE=DATE:20210417
DTSTAMP:20260422T181659
CREATED:20200602T210421Z
LAST-MODIFIED:20201123T163522Z
UID:10003160-1618185600-1618617599@knox.utoronto.ca
SUMMARY:Exam week
DESCRIPTION:
URL:https://knox.utoronto.ca/event/exam-week-3/
END:VEVENT
BEGIN:VEVENT
DTSTART;TZID=America/Toronto:20210413T161500
DTEND;TZID=America/Toronto:20210413T170000
DTSTAMP:20260422T181659
CREATED:20190808T203259Z
LAST-MODIFIED:20190808T205143Z
UID:10002802-1618330500-1618333200@knox.utoronto.ca
SUMMARY:Community Worship Service Starts
DESCRIPTION:
URL:https://knox.utoronto.ca/event/community-worship-service-starts-weekly/2021-04-13/
END:VEVENT
BEGIN:VEVENT
DTSTART;TZID=America/Toronto:20210420T161500
DTEND;TZID=America/Toronto:20210420T170000
DTSTAMP:20260422T181659
CREATED:20190808T203259Z
LAST-MODIFIED:20190808T205143Z
UID:10002803-1618935300-1618938000@knox.utoronto.ca
SUMMARY:Community Worship Service Starts
DESCRIPTION:
URL:https://knox.utoronto.ca/event/community-worship-service-starts-weekly/2021-04-20/
END:VEVENT
BEGIN:VEVENT
DTSTART;VALUE=DATE:20210427
DTEND;VALUE=DATE:20210428
DTSTAMP:20260422T181659
CREATED:20200602T210554Z
LAST-MODIFIED:20201123T163443Z
UID:10003164-1619481600-1619567999@knox.utoronto.ca
SUMMARY:Grades available to students via ACORN
DESCRIPTION:
URL:https://knox.utoronto.ca/event/grades-available-to-students-via-acorn-2/
END:VEVENT
BEGIN:VEVENT
DTSTART;TZID=America/Toronto:20210427T161500
DTEND;TZID=America/Toronto:20210427T170000
DTSTAMP:20260422T181659
CREATED:20190808T203259Z
LAST-MODIFIED:20190808T205143Z
UID:10002804-1619540100-1619542800@knox.utoronto.ca
SUMMARY:Community Worship Service Starts
DESCRIPTION:
URL:https://knox.utoronto.ca/event/community-worship-service-starts-weekly/2021-04-27/
END:VEVENT
END:VCALENDAR