BEGIN:VCALENDAR
VERSION:2.0
PRODID:-//Knox College, Canada - ECPv6.15.18//NONSGML v1.0//EN
CALSCALE:GREGORIAN
METHOD:PUBLISH
X-ORIGINAL-URL:https://knox.utoronto.ca
X-WR-CALDESC:Events for Knox College, Canada
REFRESH-INTERVAL;VALUE=DURATION:PT1H
X-Robots-Tag:noindex
X-PUBLISHED-TTL:PT1H
BEGIN:VTIMEZONE
TZID:America/Toronto
BEGIN:DAYLIGHT
TZOFFSETFROM:-0500
TZOFFSETTO:-0400
TZNAME:EDT
DTSTART:20190310T070000
END:DAYLIGHT
BEGIN:STANDARD
TZOFFSETFROM:-0400
TZOFFSETTO:-0500
TZNAME:EST
DTSTART:20191103T060000
END:STANDARD
BEGIN:DAYLIGHT
TZOFFSETFROM:-0500
TZOFFSETTO:-0400
TZNAME:EDT
DTSTART:20200308T070000
END:DAYLIGHT
BEGIN:STANDARD
TZOFFSETFROM:-0400
TZOFFSETTO:-0500
TZNAME:EST
DTSTART:20201101T060000
END:STANDARD
BEGIN:DAYLIGHT
TZOFFSETFROM:-0500
TZOFFSETTO:-0400
TZNAME:EDT
DTSTART:20210314T070000
END:DAYLIGHT
BEGIN:STANDARD
TZOFFSETFROM:-0400
TZOFFSETTO:-0500
TZNAME:EST
DTSTART:20211107T060000
END:STANDARD
BEGIN:DAYLIGHT
TZOFFSETFROM:-0500
TZOFFSETTO:-0400
TZNAME:EDT
DTSTART:20220313T070000
END:DAYLIGHT
BEGIN:STANDARD
TZOFFSETFROM:-0400
TZOFFSETTO:-0500
TZNAME:EST
DTSTART:20221106T060000
END:STANDARD
END:VTIMEZONE
BEGIN:VEVENT
DTSTART;TZID=America/Toronto:20201201T161500
DTEND;TZID=America/Toronto:20201201T170000
DTSTAMP:20260423T021637
CREATED:20190808T203259Z
LAST-MODIFIED:20190808T205143Z
UID:10002783-1606839300-1606842000@knox.utoronto.ca
SUMMARY:Community Worship Service Starts
DESCRIPTION:
URL:https://knox.utoronto.ca/event/community-worship-service-starts-weekly/2020-12-01/
END:VEVENT
BEGIN:VEVENT
DTSTART;TZID=America/Toronto:20201201T161500
DTEND;TZID=America/Toronto:20201201T170000
DTSTAMP:20260423T021637
CREATED:20200911T174339Z
LAST-MODIFIED:20200911T174532Z
UID:10003176-1606839300-1606842000@knox.utoronto.ca
SUMMARY:Chapel (virtual service)
DESCRIPTION:Email knox.college@utoronto.ca if you wish to attend chapel online. Or\, view services on Knox’s YouTube channel.
URL:https://knox.utoronto.ca/event/chapel-virtual-service/2020-12-01/
END:VEVENT
BEGIN:VEVENT
DTSTART;VALUE=DATE:20201208
DTEND;VALUE=DATE:20201215
DTSTAMP:20260423T021637
CREATED:20200602T210207Z
LAST-MODIFIED:20200602T210207Z
UID:10003155-1607385600-1607990399@knox.utoronto.ca
SUMMARY:Last week of classes
DESCRIPTION:
URL:https://knox.utoronto.ca/event/last-week-of-classes/
END:VEVENT
BEGIN:VEVENT
DTSTART;TZID=America/Toronto:20201208T161500
DTEND;TZID=America/Toronto:20201208T170000
DTSTAMP:20260423T021637
CREATED:20190808T203259Z
LAST-MODIFIED:20190808T205143Z
UID:10002784-1607444100-1607446800@knox.utoronto.ca
SUMMARY:Community Worship Service Starts
DESCRIPTION:
URL:https://knox.utoronto.ca/event/community-worship-service-starts-weekly/2020-12-08/
END:VEVENT
BEGIN:VEVENT
DTSTART;TZID=America/Toronto:20201208T161500
DTEND;TZID=America/Toronto:20201208T170000
DTSTAMP:20260423T021637
CREATED:20200911T174339Z
LAST-MODIFIED:20200911T174532Z
UID:10003177-1607444100-1607446800@knox.utoronto.ca
SUMMARY:Chapel (virtual service)
DESCRIPTION:Email knox.college@utoronto.ca if you wish to attend chapel online. Or\, view services on Knox’s YouTube channel.
URL:https://knox.utoronto.ca/event/chapel-virtual-service/2020-12-08/
END:VEVENT
BEGIN:VEVENT
DTSTART;VALUE=DATE:20201215
DTEND;VALUE=DATE:20201219
DTSTAMP:20260423T021637
CREATED:20200602T210337Z
LAST-MODIFIED:20200602T210337Z
UID:10003158-1607990400-1608335999@knox.utoronto.ca
SUMMARY:Exam week
DESCRIPTION:
URL:https://knox.utoronto.ca/event/exam-week-2/
END:VEVENT
BEGIN:VEVENT
DTSTART;TZID=America/Toronto:20201215T161500
DTEND;TZID=America/Toronto:20201215T170000
DTSTAMP:20260423T021637
CREATED:20190808T203259Z
LAST-MODIFIED:20190808T205143Z
UID:10002785-1608048900-1608051600@knox.utoronto.ca
SUMMARY:Community Worship Service Starts
DESCRIPTION:
URL:https://knox.utoronto.ca/event/community-worship-service-starts-weekly/2020-12-15/
END:VEVENT
BEGIN:VEVENT
DTSTART;VALUE=DATE:20201219
DTEND;VALUE=DATE:20210104
DTSTAMP:20260423T021637
CREATED:20200921T162122Z
LAST-MODIFIED:20200921T162122Z
UID:10003178-1608336000-1609718399@knox.utoronto.ca
SUMMARY:Christmas break (College closed)
DESCRIPTION:
URL:https://knox.utoronto.ca/event/christmas-break-college-closed/
END:VEVENT
BEGIN:VEVENT
DTSTART;TZID=America/Toronto:20201222T161500
DTEND;TZID=America/Toronto:20201222T170000
DTSTAMP:20260423T021637
CREATED:20190808T203259Z
LAST-MODIFIED:20190808T205143Z
UID:10002786-1608653700-1608656400@knox.utoronto.ca
SUMMARY:Community Worship Service Starts
DESCRIPTION:
URL:https://knox.utoronto.ca/event/community-worship-service-starts-weekly/2020-12-22/
END:VEVENT
BEGIN:VEVENT
DTSTART;TZID=America/Toronto:20201229T161500
DTEND;TZID=America/Toronto:20201229T170000
DTSTAMP:20260423T021637
CREATED:20190808T203259Z
LAST-MODIFIED:20190808T205143Z
UID:10002787-1609258500-1609261200@knox.utoronto.ca
SUMMARY:Community Worship Service Starts
DESCRIPTION:
URL:https://knox.utoronto.ca/event/community-worship-service-starts-weekly/2020-12-29/
END:VEVENT
END:VCALENDAR