BEGIN:VCALENDAR
VERSION:2.0
PRODID:-//Knox College, Canada - ECPv6.15.18//NONSGML v1.0//EN
CALSCALE:GREGORIAN
METHOD:PUBLISH
X-ORIGINAL-URL:https://knox.utoronto.ca
X-WR-CALDESC:Events for Knox College, Canada
REFRESH-INTERVAL;VALUE=DURATION:PT1H
X-Robots-Tag:noindex
X-PUBLISHED-TTL:PT1H
BEGIN:VTIMEZONE
TZID:America/Toronto
BEGIN:DAYLIGHT
TZOFFSETFROM:-0500
TZOFFSETTO:-0400
TZNAME:EDT
DTSTART:20190310T070000
END:DAYLIGHT
BEGIN:STANDARD
TZOFFSETFROM:-0400
TZOFFSETTO:-0500
TZNAME:EST
DTSTART:20191103T060000
END:STANDARD
BEGIN:DAYLIGHT
TZOFFSETFROM:-0500
TZOFFSETTO:-0400
TZNAME:EDT
DTSTART:20200308T070000
END:DAYLIGHT
BEGIN:STANDARD
TZOFFSETFROM:-0400
TZOFFSETTO:-0500
TZNAME:EST
DTSTART:20201101T060000
END:STANDARD
BEGIN:DAYLIGHT
TZOFFSETFROM:-0500
TZOFFSETTO:-0400
TZNAME:EDT
DTSTART:20210314T070000
END:DAYLIGHT
BEGIN:STANDARD
TZOFFSETFROM:-0400
TZOFFSETTO:-0500
TZNAME:EST
DTSTART:20211107T060000
END:STANDARD
END:VTIMEZONE
BEGIN:VEVENT
DTSTART;TZID=America/Toronto:20200804T161500
DTEND;TZID=America/Toronto:20200804T170000
DTSTAMP:20260422T133045
CREATED:20190808T203259Z
LAST-MODIFIED:20190808T205143Z
UID:10002766-1596557700-1596560400@knox.utoronto.ca
SUMMARY:Community Worship Service Starts
DESCRIPTION:
URL:https://knox.utoronto.ca/event/community-worship-service-starts-weekly/2020-08-04/
END:VEVENT
BEGIN:VEVENT
DTSTART;TZID=America/Toronto:20200811T161500
DTEND;TZID=America/Toronto:20200811T170000
DTSTAMP:20260422T133045
CREATED:20190808T203259Z
LAST-MODIFIED:20190808T205143Z
UID:10002767-1597162500-1597165200@knox.utoronto.ca
SUMMARY:Community Worship Service Starts
DESCRIPTION:
URL:https://knox.utoronto.ca/event/community-worship-service-starts-weekly/2020-08-11/
END:VEVENT
BEGIN:VEVENT
DTSTART;VALUE=DATE:20200812
DTEND;VALUE=DATE:20200813
DTSTAMP:20260422T133045
CREATED:20200417T173620Z
LAST-MODIFIED:20200417T173620Z
UID:10003141-1597190400-1597276799@knox.utoronto.ca
SUMMARY:Required minimum payment deadline for Winter 2021
DESCRIPTION:
URL:https://knox.utoronto.ca/event/required-minimum-payment-deadline-for-winter-2021/
END:VEVENT
BEGIN:VEVENT
DTSTART;TZID=America/Toronto:20200818T161500
DTEND;TZID=America/Toronto:20200818T170000
DTSTAMP:20260422T133045
CREATED:20190808T203259Z
LAST-MODIFIED:20190808T205143Z
UID:10002768-1597767300-1597770000@knox.utoronto.ca
SUMMARY:Community Worship Service Starts
DESCRIPTION:
URL:https://knox.utoronto.ca/event/community-worship-service-starts-weekly/2020-08-18/
END:VEVENT
BEGIN:VEVENT
DTSTART;TZID=America/Toronto:20200825T161500
DTEND;TZID=America/Toronto:20200825T170000
DTSTAMP:20260422T133045
CREATED:20190808T203259Z
LAST-MODIFIED:20190808T205143Z
UID:10002769-1598372100-1598374800@knox.utoronto.ca
SUMMARY:Community Worship Service Starts
DESCRIPTION:
URL:https://knox.utoronto.ca/event/community-worship-service-starts-weekly/2020-08-25/
END:VEVENT
END:VCALENDAR