BEGIN:VCALENDAR
VERSION:2.0
PRODID:-//Knox College, Canada - ECPv6.15.18//NONSGML v1.0//EN
CALSCALE:GREGORIAN
METHOD:PUBLISH
X-ORIGINAL-URL:https://knox.utoronto.ca
X-WR-CALDESC:Events for Knox College, Canada
REFRESH-INTERVAL;VALUE=DURATION:PT1H
X-Robots-Tag:noindex
X-PUBLISHED-TTL:PT1H
BEGIN:VTIMEZONE
TZID:America/Toronto
BEGIN:DAYLIGHT
TZOFFSETFROM:-0500
TZOFFSETTO:-0400
TZNAME:EDT
DTSTART:20240310T070000
END:DAYLIGHT
BEGIN:STANDARD
TZOFFSETFROM:-0400
TZOFFSETTO:-0500
TZNAME:EST
DTSTART:20241103T060000
END:STANDARD
BEGIN:DAYLIGHT
TZOFFSETFROM:-0500
TZOFFSETTO:-0400
TZNAME:EDT
DTSTART:20250309T070000
END:DAYLIGHT
BEGIN:STANDARD
TZOFFSETFROM:-0400
TZOFFSETTO:-0500
TZNAME:EST
DTSTART:20251102T060000
END:STANDARD
BEGIN:DAYLIGHT
TZOFFSETFROM:-0500
TZOFFSETTO:-0400
TZNAME:EDT
DTSTART:20260308T070000
END:DAYLIGHT
BEGIN:STANDARD
TZOFFSETFROM:-0400
TZOFFSETTO:-0500
TZNAME:EST
DTSTART:20261101T060000
END:STANDARD
BEGIN:DAYLIGHT
TZOFFSETFROM:-0500
TZOFFSETTO:-0400
TZNAME:EDT
DTSTART:20270314T070000
END:DAYLIGHT
BEGIN:STANDARD
TZOFFSETFROM:-0400
TZOFFSETTO:-0500
TZNAME:EST
DTSTART:20271107T060000
END:STANDARD
END:VTIMEZONE
BEGIN:VEVENT
DTSTART;TZID=America/Toronto:20260121T140000
DTEND;TZID=America/Toronto:20260121T150000
DTSTAMP:20260423T100551
CREATED:20260119T140558Z
LAST-MODIFIED:20260119T140558Z
UID:10003686-1769004000-1769007600@knox.utoronto.ca
SUMMARY:TST-wide Ecumenical Service
DESCRIPTION:You’re also invited to TST’s annual TST-wide Ecumenical Worship Service during the Week of Prayer for Christian Unity on Wednesday\, January 21 at 2:00 pm\, with a reception to follow.  This year St. Augustine’s Seminary is the host and the service will be in St. Joseph Chapel at Regis College (100 Wellesley St. W.).
URL:https://knox.utoronto.ca/event/tst-wide-ecumenical-service-2/
END:VEVENT
BEGIN:VEVENT
DTSTART;TZID=America/Toronto:20260120T131500
DTEND;TZID=America/Toronto:20260120T140000
DTSTAMP:20260423T100551
CREATED:20250717T161205Z
LAST-MODIFIED:20250717T161205Z
UID:10003365-1768914900-1768917600@knox.utoronto.ca
SUMMARY:Chapel
DESCRIPTION:
URL:https://knox.utoronto.ca/event/chapel-7/2026-01-20/
END:VEVENT
BEGIN:VEVENT
DTSTART;VALUE=DATE:20260118
DTEND;VALUE=DATE:20260125
DTSTAMP:20260423T100551
CREATED:20250717T160538Z
LAST-MODIFIED:20250717T160538Z
UID:10003357-1768694400-1769299199@knox.utoronto.ca
SUMMARY:World Week of Prayer for Christian Unity
DESCRIPTION:
URL:https://knox.utoronto.ca/event/world-week-of-prayer-for-christian-unity-2/
END:VEVENT
BEGIN:VEVENT
DTSTART;TZID=America/Toronto:20260113T131500
DTEND;TZID=America/Toronto:20260113T140000
DTSTAMP:20260423T100551
CREATED:20250717T161205Z
LAST-MODIFIED:20250717T161205Z
UID:10003364-1768310100-1768312800@knox.utoronto.ca
SUMMARY:Chapel
DESCRIPTION:
URL:https://knox.utoronto.ca/event/chapel-7/2026-01-13/
END:VEVENT
BEGIN:VEVENT
DTSTART;TZID=America/Toronto:20260106T131500
DTEND;TZID=America/Toronto:20260106T140000
DTSTAMP:20260423T100551
CREATED:20250717T161205Z
LAST-MODIFIED:20250717T161205Z
UID:10003363-1767705300-1767708000@knox.utoronto.ca
SUMMARY:Chapel
DESCRIPTION:
URL:https://knox.utoronto.ca/event/chapel-7/2026-01-06/
END:VEVENT
BEGIN:VEVENT
DTSTART;VALUE=DATE:20260105
DTEND;VALUE=DATE:20260106
DTSTAMP:20260423T100551
CREATED:20250717T154506Z
LAST-MODIFIED:20250717T154506Z
UID:10003613-1767571200-1767657599@knox.utoronto.ca
SUMMARY:Winter 2026 Classes Begin
DESCRIPTION:
URL:https://knox.utoronto.ca/event/winter-2026-classes-begin/
END:VEVENT
BEGIN:VEVENT
DTSTART;VALUE=DATE:20260101
DTEND;VALUE=DATE:20260102
DTSTAMP:20260423T100551
CREATED:20250717T152946Z
LAST-MODIFIED:20250717T152957Z
UID:10003605-1767225600-1767311999@knox.utoronto.ca
SUMMARY:New Year's Day (College Closed)
DESCRIPTION:
URL:https://knox.utoronto.ca/event/new-years-day-college-closed/
END:VEVENT
BEGIN:VEVENT
DTSTART;VALUE=DATE:20251231
DTEND;VALUE=DATE:20260101
DTSTAMP:20260423T100551
CREATED:20250717T152915Z
LAST-MODIFIED:20250717T152915Z
UID:10003604-1767139200-1767225599@knox.utoronto.ca
SUMMARY:New Year's Eve (College Closed)
DESCRIPTION:
URL:https://knox.utoronto.ca/event/new-years-eve-college-closed/
END:VEVENT
BEGIN:VEVENT
DTSTART;VALUE=DATE:20251225
DTEND;VALUE=DATE:20251226
DTSTAMP:20260423T100551
CREATED:20250717T152835Z
LAST-MODIFIED:20250717T152835Z
UID:10003603-1766620800-1766707199@knox.utoronto.ca
SUMMARY:Christmas Day (College Closed)
DESCRIPTION:
URL:https://knox.utoronto.ca/event/christmas-day-college-closed/
END:VEVENT
BEGIN:VEVENT
DTSTART;VALUE=DATE:20251224
DTEND;VALUE=DATE:20251225
DTSTAMP:20260423T100551
CREATED:20250717T152749Z
LAST-MODIFIED:20250717T152749Z
UID:10003602-1766534400-1766620799@knox.utoronto.ca
SUMMARY:Christmas Eve
DESCRIPTION:
URL:https://knox.utoronto.ca/event/christmas-eve/
END:VEVENT
BEGIN:VEVENT
DTSTART;VALUE=DATE:20251214
DTEND;VALUE=DATE:20251223
DTSTAMP:20260423T100551
CREATED:20250821T145919Z
LAST-MODIFIED:20250821T145919Z
UID:10003674-1765670400-1766447999@knox.utoronto.ca
SUMMARY:Hanukkah
DESCRIPTION:
URL:https://knox.utoronto.ca/event/hanukkah/
END:VEVENT
BEGIN:VEVENT
DTSTART;VALUE=DATE:20251209
DTEND;VALUE=DATE:20251213
DTSTAMP:20260423T100551
CREATED:20250717T154058Z
LAST-MODIFIED:20250717T154058Z
UID:10003607-1765238400-1765583999@knox.utoronto.ca
SUMMARY:Examination Week - Fall
DESCRIPTION:
URL:https://knox.utoronto.ca/event/examination-week-fall/
END:VEVENT
BEGIN:VEVENT
DTSTART;VALUE=DATE:20251208
DTEND;VALUE=DATE:20251209
DTSTAMP:20260423T100551
CREATED:20250717T153947Z
LAST-MODIFIED:20250717T153947Z
UID:10003606-1765152000-1765238399@knox.utoronto.ca
SUMMARY:Fall 2025 Classes End
DESCRIPTION:
URL:https://knox.utoronto.ca/event/fall-2025-classes-end/
END:VEVENT
BEGIN:VEVENT
DTSTART;TZID=America/Toronto:20251202T131500
DTEND;TZID=America/Toronto:20251202T140000
DTSTAMP:20260423T100551
CREATED:20250717T154153Z
LAST-MODIFIED:20250717T154153Z
UID:10003612-1764681300-1764684000@knox.utoronto.ca
SUMMARY:Chapel
DESCRIPTION:
URL:https://knox.utoronto.ca/event/chapel-6/2025-12-02/
END:VEVENT
BEGIN:VEVENT
DTSTART;TZID=America/Toronto:20251125T150000
DTEND;TZID=America/Toronto:20251125T170000
DTSTAMP:20260423T100551
CREATED:20250715T203255Z
LAST-MODIFIED:20250715T203255Z
UID:10003583-1764082800-1764090000@knox.utoronto.ca
SUMMARY:Strategic Philanthropy: How to Incorporate Giving into Your Estate Plan - Abraham Somavarapha
DESCRIPTION:Tuesday\, November 25\, 3:00pm ET – Strategic Philanthropy: How to Incorporate Giving into Your Estate Plan – Abraham Somavarapha \nThoughtful giving doesn’t end in your lifetime—it can become one of the most enduring ways you shape the future. Join us for this webinar hosted by Abraham Somavarapha and our partners at Advisors with Purpose designed for individuals who are thinking seriously about how to align their estate plan with the causes and values that matter most to them.In this session\, we’ll explore: \n\nKey estate planning tools for charitable giving\nHow to structure gifts in your will or trust\nWays to maximize impact while maintaining flexibility\nPlanning strategies that align giving with family and financial goals\nThe role of donor-advised funds\, bequests\, and charitable trusts\nHow to communicate your giving intentions with clarity\n\n     Link to register: https://calendly.com/awpwebinar/november-25-2025
URL:https://knox.utoronto.ca/event/strategic-philanthropy-how-to-incorporate-giving-into-your-estate-plan-abraham-somavarapha/
END:VEVENT
BEGIN:VEVENT
DTSTART;TZID=America/Toronto:20251125T131500
DTEND;TZID=America/Toronto:20251125T140000
DTSTAMP:20260423T100551
CREATED:20250717T154153Z
LAST-MODIFIED:20250717T154153Z
UID:10003611-1764076500-1764079200@knox.utoronto.ca
SUMMARY:Chapel
DESCRIPTION:
URL:https://knox.utoronto.ca/event/chapel-6/2025-11-25/
END:VEVENT
BEGIN:VEVENT
DTSTART;VALUE=DATE:20251124
DTEND;VALUE=DATE:20251125
DTSTAMP:20260423T100551
CREATED:20250919T132506Z
LAST-MODIFIED:20250919T132506Z
UID:10003677-1763942400-1764028799@knox.utoronto.ca
SUMMARY:Graduate Degree Deadline
DESCRIPTION:
URL:https://knox.utoronto.ca/event/graduate-degree-deadline/
END:VEVENT
BEGIN:VEVENT
DTSTART;TZID=America/Toronto:20251118T131500
DTEND;TZID=America/Toronto:20251118T140000
DTSTAMP:20260423T100551
CREATED:20250717T154153Z
LAST-MODIFIED:20250717T154153Z
UID:10003610-1763471700-1763474400@knox.utoronto.ca
SUMMARY:Chapel
DESCRIPTION:
URL:https://knox.utoronto.ca/event/chapel-6/2025-11-18/
END:VEVENT
BEGIN:VEVENT
DTSTART;TZID=America/Toronto:20251111T131500
DTEND;TZID=America/Toronto:20251111T140000
DTSTAMP:20260423T100551
CREATED:20250717T154153Z
LAST-MODIFIED:20250717T154153Z
UID:10003609-1762866900-1762869600@knox.utoronto.ca
SUMMARY:Chapel
DESCRIPTION:
URL:https://knox.utoronto.ca/event/chapel-6/2025-11-11/
END:VEVENT
BEGIN:VEVENT
DTSTART;VALUE=DATE:20251111
DTEND;VALUE=DATE:20251112
DTSTAMP:20260423T100551
CREATED:20250717T152655Z
LAST-MODIFIED:20250717T152655Z
UID:10003601-1762819200-1762905599@knox.utoronto.ca
SUMMARY:Remembrance Day
DESCRIPTION:
URL:https://knox.utoronto.ca/event/remembrance-day-2/
END:VEVENT
BEGIN:VEVENT
DTSTART;TZID=America/Toronto:20251107T100000
DTEND;TZID=America/Toronto:20251107T120000
DTSTAMP:20260423T100551
CREATED:20250717T154858Z
LAST-MODIFIED:20250717T155621Z
UID:10003345-1762509600-1762516800@knox.utoronto.ca
SUMMARY:Centre for Asian-Canadian Theology and Ministry 30th Anniversary Celebration
DESCRIPTION:
URL:https://knox.utoronto.ca/event/centre-for-asian-canadian-theology-and-ministry-30th-anniversary-celebration/
END:VEVENT
BEGIN:VEVENT
DTSTART;VALUE=DATE:20251105
DTEND;VALUE=DATE:20251108
DTSTAMP:20260423T100551
CREATED:20250821T145708Z
LAST-MODIFIED:20250821T145708Z
UID:10003672-1762300800-1762559999@knox.utoronto.ca
SUMMARY:Rosh Hashanah
DESCRIPTION:
URL:https://knox.utoronto.ca/event/rosh-hashanah/2025-11-05/
END:VEVENT
BEGIN:VEVENT
DTSTART;TZID=America/Toronto:20251104T161500
DTEND;TZID=America/Toronto:20251104T170000
DTSTAMP:20260423T100551
CREATED:20190808T203259Z
LAST-MODIFIED:20190808T205143Z
UID:10003040-1762272900-1762275600@knox.utoronto.ca
SUMMARY:Community Worship Service Starts
DESCRIPTION:
URL:https://knox.utoronto.ca/event/community-worship-service-starts-weekly/2025-11-04/
END:VEVENT
BEGIN:VEVENT
DTSTART;TZID=America/Toronto:20251104T131500
DTEND;TZID=America/Toronto:20251104T140000
DTSTAMP:20260423T100551
CREATED:20240109T153146Z
LAST-MODIFIED:20240305T164837Z
UID:10003491-1762262100-1762264800@knox.utoronto.ca
SUMMARY:Chapel
DESCRIPTION:
URL:https://knox.utoronto.ca/event/chapel-2/2025-11-04/
END:VEVENT
BEGIN:VEVENT
DTSTART;VALUE=DATE:20251104
DTEND;VALUE=DATE:20251107
DTSTAMP:20260423T100551
CREATED:20250821T145708Z
LAST-MODIFIED:20250821T145708Z
UID:10003671-1762214400-1762473599@knox.utoronto.ca
SUMMARY:Rosh Hashanah
DESCRIPTION:
URL:https://knox.utoronto.ca/event/rosh-hashanah/2025-11-04/
END:VEVENT
BEGIN:VEVENT
DTSTART;VALUE=DATE:20251103
DTEND;VALUE=DATE:20251106
DTSTAMP:20260423T100551
CREATED:20250821T145708Z
LAST-MODIFIED:20250821T145708Z
UID:10003670-1762128000-1762387199@knox.utoronto.ca
SUMMARY:Rosh Hashanah
DESCRIPTION:
URL:https://knox.utoronto.ca/event/rosh-hashanah/2025-11-03/
END:VEVENT
BEGIN:VEVENT
DTSTART;VALUE=DATE:20251102
DTEND;VALUE=DATE:20251105
DTSTAMP:20260423T100551
CREATED:20250821T145708Z
LAST-MODIFIED:20250821T145708Z
UID:10003669-1762041600-1762297199@knox.utoronto.ca
SUMMARY:Rosh Hashanah
DESCRIPTION:
URL:https://knox.utoronto.ca/event/rosh-hashanah/2025-11-02/
END:VEVENT
BEGIN:VEVENT
DTSTART;VALUE=DATE:20251101
DTEND;VALUE=DATE:20251104
DTSTAMP:20260423T100551
CREATED:20250821T145708Z
LAST-MODIFIED:20250821T145708Z
UID:10003668-1761955200-1762210799@knox.utoronto.ca
SUMMARY:Rosh Hashanah
DESCRIPTION:
URL:https://knox.utoronto.ca/event/rosh-hashanah/2025-11-01/
END:VEVENT
BEGIN:VEVENT
DTSTART;VALUE=DATE:20251101
DTEND;VALUE=DATE:20251102
DTSTAMP:20260423T100551
CREATED:20250717T152621Z
LAST-MODIFIED:20250717T152621Z
UID:10003600-1761955200-1762041599@knox.utoronto.ca
SUMMARY:All Saints Day
DESCRIPTION:
URL:https://knox.utoronto.ca/event/all-saints-day/
END:VEVENT
BEGIN:VEVENT
DTSTART;TZID=America/Toronto:20251031T080000
DTEND;TZID=America/Toronto:20251031T170000
DTSTAMP:20260423T100551
CREATED:20250717T152546Z
LAST-MODIFIED:20250717T152546Z
UID:10003599-1761897600-1761930000@knox.utoronto.ca
SUMMARY:Reformation Day
DESCRIPTION:
URL:https://knox.utoronto.ca/event/reformation-day-2/
END:VEVENT
END:VCALENDAR