BEGIN:VCALENDAR
VERSION:2.0
PRODID:-//Knox College, Canada - ECPv6.15.18//NONSGML v1.0//EN
CALSCALE:GREGORIAN
METHOD:PUBLISH
X-WR-CALNAME:Knox College, Canada
X-ORIGINAL-URL:https://knox.utoronto.ca
X-WR-CALDESC:Events for Knox College, Canada
REFRESH-INTERVAL;VALUE=DURATION:PT1H
X-Robots-Tag:noindex
X-PUBLISHED-TTL:PT1H
BEGIN:VTIMEZONE
TZID:America/Toronto
BEGIN:DAYLIGHT
TZOFFSETFROM:-0500
TZOFFSETTO:-0400
TZNAME:EDT
DTSTART:20250309T070000
END:DAYLIGHT
BEGIN:STANDARD
TZOFFSETFROM:-0400
TZOFFSETTO:-0500
TZNAME:EST
DTSTART:20251102T060000
END:STANDARD
BEGIN:DAYLIGHT
TZOFFSETFROM:-0500
TZOFFSETTO:-0400
TZNAME:EDT
DTSTART:20260308T070000
END:DAYLIGHT
BEGIN:STANDARD
TZOFFSETFROM:-0400
TZOFFSETTO:-0500
TZNAME:EST
DTSTART:20261101T060000
END:STANDARD
BEGIN:DAYLIGHT
TZOFFSETFROM:-0500
TZOFFSETTO:-0400
TZNAME:EDT
DTSTART:20270314T070000
END:DAYLIGHT
BEGIN:STANDARD
TZOFFSETFROM:-0400
TZOFFSETTO:-0500
TZNAME:EST
DTSTART:20271107T060000
END:STANDARD
END:VTIMEZONE
BEGIN:VEVENT
DTSTART;VALUE=DATE:20260410
DTEND;VALUE=DATE:20260411
DTSTAMP:20260419T103719
CREATED:20250919T132655Z
LAST-MODIFIED:20250919T132655Z
UID:10003680-1775779200-1775865599@knox.utoronto.ca
SUMMARY:Domestic MPS Applicant Deadline
DESCRIPTION:
URL:https://knox.utoronto.ca/event/domestic-mps-applicant-deadline/
END:VEVENT
BEGIN:VEVENT
DTSTART;VALUE=DATE:20260406
DTEND;VALUE=DATE:20260411
DTSTAMP:20260419T103719
CREATED:20250717T155849Z
LAST-MODIFIED:20250717T155849Z
UID:10003352-1775433600-1775865599@knox.utoronto.ca
SUMMARY:Examination Week - Winter
DESCRIPTION:
URL:https://knox.utoronto.ca/event/examination-week-winter/
END:VEVENT
BEGIN:VEVENT
DTSTART;VALUE=DATE:20260405
DTEND;VALUE=DATE:20260406
DTSTAMP:20260419T103719
CREATED:20250717T160719Z
LAST-MODIFIED:20250717T160719Z
UID:10003361-1775347200-1775433599@knox.utoronto.ca
SUMMARY:Easter Sunday
DESCRIPTION:
URL:https://knox.utoronto.ca/event/easter-sunday-2/
END:VEVENT
BEGIN:VEVENT
DTSTART;VALUE=DATE:20260403
DTEND;VALUE=DATE:20260404
DTSTAMP:20260419T103719
CREATED:20250717T155800Z
LAST-MODIFIED:20250717T155800Z
UID:10003350-1775174400-1775260799@knox.utoronto.ca
SUMMARY:Good Friday (Knox College Closed)
DESCRIPTION:
URL:https://knox.utoronto.ca/event/good-friday-knox-college-closed/
END:VEVENT
BEGIN:VEVENT
DTSTART;VALUE=DATE:20260402
DTEND;VALUE=DATE:20260403
DTSTAMP:20260419T103719
CREATED:20250717T155721Z
LAST-MODIFIED:20250717T155721Z
UID:10003347-1775088000-1775174399@knox.utoronto.ca
SUMMARY:Winter 2026 Classes End
DESCRIPTION:
URL:https://knox.utoronto.ca/event/winter-2026-classes-end/
END:VEVENT
BEGIN:VEVENT
DTSTART;TZID=America/Toronto:20260331T131500
DTEND;TZID=America/Toronto:20260331T140000
DTSTAMP:20260419T103719
CREATED:20250717T161332Z
LAST-MODIFIED:20250717T161332Z
UID:10003620-1774962900-1774965600@knox.utoronto.ca
SUMMARY:Chapel
DESCRIPTION:
URL:https://knox.utoronto.ca/event/chapel-8/2026-03-31/
END:VEVENT
BEGIN:VEVENT
DTSTART;TZID=America/Toronto:20260326T190000
DTEND;TZID=America/Toronto:20260326T200000
DTSTAMP:20260419T103719
CREATED:20250717T162652Z
LAST-MODIFIED:20250717T162652Z
UID:10003624-1774551600-1774555200@knox.utoronto.ca
SUMMARY:Thoughtful Planning for Life\, Legacy\, and Loved Ones - Mary Lynn Huizinga
DESCRIPTION:Estate planning isn’t just about preparing documents—it’s about creating a plan that reflects your life\, protects the people you care about\, and honors the values you want to pass on. Join us for a free\, one-hour webinar hosted by Mary Lynn Huizinga and our partners at Advisors with Purpose designed to help you get your affairs in order with care\, clarity\, and confidence. \nWhether you’re updating an existing plan or starting from scratch\, this session will walk you through the essentials with a focus on what truly matters. We’ll cover: \n\nKey documents every plan should include\nHow to ensure your wishes are clearly communicated\nWhat your executor needs to know and do\nStrategies for managing your assets and personal property\nGuidance on planning for digital assets and accounts\nHow to organize your plan around your priorities and values\n\n     Link to register:  https://calendly.com/awpwebinar/march-26-2026
URL:https://knox.utoronto.ca/event/thoughtful-planning-for-life-legacy-and-loved-ones-mary-lynn-huizinga/
END:VEVENT
BEGIN:VEVENT
DTSTART;TZID=America/Toronto:20260326T150000
DTEND;TZID=America/Toronto:20260326T150000
DTSTAMP:20260419T103719
CREATED:20250717T162457Z
LAST-MODIFIED:20250717T162539Z
UID:10003623-1774537200-1774537200@knox.utoronto.ca
SUMMARY:Next-Level Estate Planning – Strategies You Should Know - Lorne Jackson
DESCRIPTION:If you think you’ve already covered the basics of estate planning\, it’s time to think deeper. From handling RRSPs and vacation properties to navigating trusts and digital assets\, advanced estate planning ensures your legacy is protected and clearly communicated. Join us for a free\, one-hour webinar hosted by Lorne Jackson and our partners at Advisors with Purpose designed for individuals who want to fine-tune their plans and account for the complexities of today’s assets and responsibilities. In this session\, we’ll cover: \n\nHow to include RRSPs\, TFSAs\, and other registered accounts in your plan\nWhat to know about vacation properties and secondary homes\nWhen and how to use trusts for flexibility and protection\nGuidelines to help your executor carry out your wishes smoothly\nPlanning for digital assets—from financial accounts to personal data\nHow to align your estate with multi-generational needs and goals\n\n     Link to register: https://calendly.com/awpwebinar/february-26-2025
URL:https://knox.utoronto.ca/event/next-level-estate-planning-strategies-you-should-know-lorne-jackson/
END:VEVENT
BEGIN:VEVENT
DTSTART;TZID=America/Toronto:20260324T131500
DTEND;TZID=America/Toronto:20260324T140000
DTSTAMP:20260419T103719
CREATED:20250717T161332Z
LAST-MODIFIED:20250717T161332Z
UID:10003619-1774358100-1774360800@knox.utoronto.ca
SUMMARY:Chapel
DESCRIPTION:
URL:https://knox.utoronto.ca/event/chapel-8/2026-03-24/
END:VEVENT
BEGIN:VEVENT
DTSTART;TZID=America/Toronto:20260317T131500
DTEND;TZID=America/Toronto:20260317T140000
DTSTAMP:20260419T103719
CREATED:20250717T161332Z
LAST-MODIFIED:20250717T161332Z
UID:10003618-1773753300-1773756000@knox.utoronto.ca
SUMMARY:Chapel
DESCRIPTION:
URL:https://knox.utoronto.ca/event/chapel-8/2026-03-17/
END:VEVENT
BEGIN:VEVENT
DTSTART;TZID=America/Toronto:20260310T131500
DTEND;TZID=America/Toronto:20260310T140000
DTSTAMP:20260419T103719
CREATED:20250717T161332Z
LAST-MODIFIED:20250717T161332Z
UID:10003617-1773148500-1773151200@knox.utoronto.ca
SUMMARY:Chapel
DESCRIPTION:
URL:https://knox.utoronto.ca/event/chapel-8/2026-03-10/
END:VEVENT
BEGIN:VEVENT
DTSTART;TZID=America/Toronto:20260303T160000
DTEND;TZID=America/Toronto:20260303T173000
DTSTAMP:20260419T103719
CREATED:20260202T205829Z
LAST-MODIFIED:20260202T210126Z
UID:10003687-1772553600-1772559000@knox.utoronto.ca
SUMMARY:The 2026 J. Dorcas Gordon Lectureship - To See or Not to See? A Theology of the Future with the Rev. Dr. Anna Robbins
DESCRIPTION:Inaugural J. Dorcas Gordon Lectureship with speaker Rev. Dr. Anna Robbins. \nWhat does it mean for Christians to think faithfully about the future? This lecture explores a theology of the future that looks beyond eschatology to the real human choices\, responsibilities\, and possibilities that shape our common life. It considers the growing value of foresight –the disciplined practice of anticipating emerging realities– and how Christians might understand imagining the future as an expression of prophetic wisdom rather than prediction or presumption. Drawing on Scripture\, theology\, and practice\, the lecture examines how we understand the relationship between past and future\, why Christians often hesitate to look ahead\, and how we can avoid both fatalism and naïve optimism. It offers a thoughtful exploration of how God’s people can discern\, imagine\, and lean into preferred futures with courage and hope. \nFree admission; reception to follow; livestream is available. \nRegistration required here \nChapel service at 1:00 pm\, where The Rev. Dr. Anna Robbins will guest-preach. All are welcome to attend. \nSpeaker:  The Rev. Dr. Anna Robbins serves as President of Acadia Divinity College and Dean of Theology at Acadia University. A respected theologian with an international profile in culture\, ethics\, and public theology\, she is widely sought as a speaker\, teacher\, and commentator. She appears regularly on podcasts and writes for both scholarly and popular audiences. \nAnna holds degrees from Carleton University\, Acadia University\, and a PhD in Theology from the University of Wales. An ordained minister with the Canadian Baptists of Atlantic Canada\, she served in several churches before spending 12 years on faculty at the London School of Theology\, consulting with organizations such as Theos\, Christians in Politics\, Tearfund\, the London Intestate for Contemporary Christianity\, the Evangelical Alliance\, and the Baptist World Alliance. Since returning to Nova Scotia in 2012\, she has held several leadership roles at Acadia Divinity College\, including Academic Dean\, Director of Doctoral Studies\, Vice-President\, and founding Director of the Andrew D. MacRae Centre for Christian Faith and Culture. She holds the Dr. Millard R. Cherry Chair of Theology\, Ethics and Culture and serves on the Board of Directors of the Association of Theological Schools. \n\n\n\n\n\nFor More Information\n\n\nhttps://www.eventbrite.ca/e/to-see-or-not-to-see-a-theology-of-the-future-ticke…
URL:https://knox.utoronto.ca/event/the-2026-j-dorcas-gordon-lectureship-to-see-or-not-to-see-a-theology-of-the-future-with-the-rev-dr-anna-robbins/
END:VEVENT
BEGIN:VEVENT
DTSTART;TZID=America/Toronto:20260303T131500
DTEND;TZID=America/Toronto:20260303T140000
DTSTAMP:20260419T103719
CREATED:20250717T161332Z
LAST-MODIFIED:20250717T161332Z
UID:10003616-1772543700-1772546400@knox.utoronto.ca
SUMMARY:Chapel
DESCRIPTION:
URL:https://knox.utoronto.ca/event/chapel-8/2026-03-03/
END:VEVENT
BEGIN:VEVENT
DTSTART;TZID=America/Toronto:20260227T130000
DTEND;TZID=America/Toronto:20260227T150000
DTSTAMP:20260419T103719
CREATED:20260223T155220Z
LAST-MODIFIED:20260223T155301Z
UID:10003688-1772197200-1772204400@knox.utoronto.ca
SUMMARY:The Ministry of Private Practice
DESCRIPTION:Thinking about private practice? Or exploring opportunities within a group practice setting? \nJoin us for a practical and reflective session designed especially for MPS students\, graduates\, and emerging Registered Psychotherapists.\nThis event offers an overview of what it takes to establish and sustain an online or in-person practice. We’ll cover key logistics such as marketing\, building a sustainable caseload\, and networking with other practitioners.\nWe’ll also explore the unique dimensions of psycho-spiritual therapy — including faithful stewardship of your gifts\, discerning a clinical niche\, and sustaining your work with integrity over time. \n  \n  \n🗓 Friday\, February 27\n🕐 1:00–3:00 PM EST\n💻 Online via Zoom\n🎟 Free registration \nRegister now at https://lnkd.in/gU-7ZuwH
URL:https://knox.utoronto.ca/event/the-ministry-of-private-practice/
LOCATION:https://us06web.zoom.us/meeting/register/SY7QGKc7QXisUfYM4Jae6A#/registration
END:VEVENT
BEGIN:VEVENT
DTSTART;TZID=America/Toronto:20260224T131500
DTEND;TZID=America/Toronto:20260224T140000
DTSTAMP:20260419T103719
CREATED:20250717T161332Z
LAST-MODIFIED:20250717T161332Z
UID:10003615-1771938900-1771941600@knox.utoronto.ca
SUMMARY:Chapel
DESCRIPTION:
URL:https://knox.utoronto.ca/event/chapel-8/2026-02-24/
END:VEVENT
BEGIN:VEVENT
DTSTART;TZID=America/Toronto:20260219T120000
DTEND;TZID=America/Toronto:20260219T120000
DTSTAMP:20260419T103719
CREATED:20251210T153200Z
LAST-MODIFIED:20251210T153200Z
UID:10003685-1771502400-1771502400@knox.utoronto.ca
SUMMARY:Round Two: Graduate Degree (MA\, ThM\, PhD\, and DMin) Application Deadline
DESCRIPTION:
URL:https://knox.utoronto.ca/event/round-two-graduate-degree-ma-thm-phd-and-dmin-application-deadline/
END:VEVENT
BEGIN:VEVENT
DTSTART;VALUE=DATE:20260218
DTEND;VALUE=DATE:20260219
DTSTAMP:20260419T103719
CREATED:20250717T160639Z
LAST-MODIFIED:20250717T160639Z
UID:10003359-1771372800-1771459199@knox.utoronto.ca
SUMMARY:Ash Wednesday
DESCRIPTION:
URL:https://knox.utoronto.ca/event/ash-wednesday-2/
END:VEVENT
BEGIN:VEVENT
DTSTART;TZID=America/Toronto:20260217T200000
DTEND;TZID=America/Toronto:20260217T210000
DTSTAMP:20260419T103719
CREATED:20250717T162239Z
LAST-MODIFIED:20250717T162239Z
UID:10003622-1771358400-1771362000@knox.utoronto.ca
SUMMARY:Why a Will Matters in Your 20’s and 30’s - Abraham Somavarapha
DESCRIPTION:If you think wills are only for the wealthy or the elderly\, you’re not alone—but you’re also not quite right. Whether you’ve just started your career\, gotten married\, had a child\, have some savings or investments or bought your first home\, having a will is one of the smartest and most responsible things you can do. \nIn this free\, no-pressure webinar Advisors with Purpose\, we’ll break down: \n\nWhy every adult should consider having a will\nWhen is the “right” time to write one\nWhat you need to include (and what you can skip)\nWhat happens if you have children or dependents\nHow to choose an executor that actually makes sense\nThe pros and cons of online will platforms and software\n\n     Link to register:  https://calendly.com/awpwebinar/february-17-2026 \n  \n 
URL:https://knox.utoronto.ca/event/why-a-will-matters-in-your-20s-and-30s-abraham-somavarapha/
END:VEVENT
BEGIN:VEVENT
DTSTART;VALUE=DATE:20260216
DTEND;VALUE=DATE:20260221
DTSTAMP:20260419T103719
CREATED:20250717T154625Z
LAST-MODIFIED:20250717T154625Z
UID:10003614-1771200000-1771631999@knox.utoronto.ca
SUMMARY:Reading Week - Winter
DESCRIPTION:
URL:https://knox.utoronto.ca/event/reading-week-winter/
END:VEVENT
BEGIN:VEVENT
DTSTART;VALUE=DATE:20260216
DTEND;VALUE=DATE:20260217
DTSTAMP:20260419T103719
CREATED:20250717T154708Z
LAST-MODIFIED:20250717T154708Z
UID:10003343-1771200000-1771286399@knox.utoronto.ca
SUMMARY:Family Day (Knox College Closed)
DESCRIPTION:
URL:https://knox.utoronto.ca/event/family-day-knox-college-closed/
END:VEVENT
BEGIN:VEVENT
DTSTART;TZID=America/Toronto:20260203T131500
DTEND;TZID=America/Toronto:20260203T140000
DTSTAMP:20260419T103719
CREATED:20250717T161205Z
LAST-MODIFIED:20250717T161205Z
UID:10003367-1770124500-1770127200@knox.utoronto.ca
SUMMARY:Chapel
DESCRIPTION:
URL:https://knox.utoronto.ca/event/chapel-7/2026-02-03/
END:VEVENT
BEGIN:VEVENT
DTSTART;VALUE=DATE:20260130
DTEND;VALUE=DATE:20260131
DTSTAMP:20260419T103719
CREATED:20250919T132549Z
LAST-MODIFIED:20250919T132549Z
UID:10003678-1769731200-1769817599@knox.utoronto.ca
SUMMARY:International Basic Degree Applicant Deadline
DESCRIPTION:
URL:https://knox.utoronto.ca/event/international-basic-degree-applicant-deadline/
END:VEVENT
BEGIN:VEVENT
DTSTART;TZID=America/Toronto:20260127T200000
DTEND;TZID=America/Toronto:20260127T210000
DTSTAMP:20260419T103719
CREATED:20250717T162053Z
LAST-MODIFIED:20250717T162053Z
UID:10003621-1769544000-1769547600@knox.utoronto.ca
SUMMARY:Estate Planning for Business Owners: Protecting What You’ve Built and Planning What Comes Next - Chantel Gibbs
DESCRIPTION:As a business owner\, your company is more than a source of income—it’s a major part of your legacy. Whether you’re running a family enterprise\, managing a growing company\, or thinking about the next generation\, estate planning is a critical step in protecting what you’ve worked so hard to build. Join us for this one-hour webinar hosted by Chantel Gibbs and our partners at Advisors with Purpose\, designed to help small and medium-sized business owners plan wisely for the future.In this session\, we’ll cover: \n\nHow to incorporate your business into your estate plan\nStrategies for family businesses and closely held companies\nPreparing for succession—what to do now to avoid conflict later\nStructuring ownership and control in your absence\nTax-efficient tools to preserve value for heirs or successors\nPlanning for unexpected events and transitions\n\n      Link to register:  https://calendly.com/awpwebinar/january-27-2026
URL:https://knox.utoronto.ca/event/estate-planning-for-business-owners-protecting-what-youve-built-and-planning-what-comes-next-chantel-gibbs/
END:VEVENT
BEGIN:VEVENT
DTSTART;TZID=America/Toronto:20260127T131500
DTEND;TZID=America/Toronto:20260127T140000
DTSTAMP:20260419T103719
CREATED:20250717T161205Z
LAST-MODIFIED:20250717T161205Z
UID:10003366-1769519700-1769522400@knox.utoronto.ca
SUMMARY:Chapel
DESCRIPTION:
URL:https://knox.utoronto.ca/event/chapel-7/2026-01-27/
END:VEVENT
BEGIN:VEVENT
DTSTART;TZID=America/Toronto:20260121T140000
DTEND;TZID=America/Toronto:20260121T150000
DTSTAMP:20260419T103719
CREATED:20260119T140558Z
LAST-MODIFIED:20260119T140558Z
UID:10003686-1769004000-1769007600@knox.utoronto.ca
SUMMARY:TST-wide Ecumenical Service
DESCRIPTION:You’re also invited to TST’s annual TST-wide Ecumenical Worship Service during the Week of Prayer for Christian Unity on Wednesday\, January 21 at 2:00 pm\, with a reception to follow.  This year St. Augustine’s Seminary is the host and the service will be in St. Joseph Chapel at Regis College (100 Wellesley St. W.).
URL:https://knox.utoronto.ca/event/tst-wide-ecumenical-service-2/
END:VEVENT
BEGIN:VEVENT
DTSTART;TZID=America/Toronto:20260120T131500
DTEND;TZID=America/Toronto:20260120T140000
DTSTAMP:20260419T103719
CREATED:20250717T161205Z
LAST-MODIFIED:20250717T161205Z
UID:10003365-1768914900-1768917600@knox.utoronto.ca
SUMMARY:Chapel
DESCRIPTION:
URL:https://knox.utoronto.ca/event/chapel-7/2026-01-20/
END:VEVENT
BEGIN:VEVENT
DTSTART;VALUE=DATE:20260118
DTEND;VALUE=DATE:20260125
DTSTAMP:20260419T103719
CREATED:20250717T160538Z
LAST-MODIFIED:20250717T160538Z
UID:10003357-1768694400-1769299199@knox.utoronto.ca
SUMMARY:World Week of Prayer for Christian Unity
DESCRIPTION:
URL:https://knox.utoronto.ca/event/world-week-of-prayer-for-christian-unity-2/
END:VEVENT
BEGIN:VEVENT
DTSTART;TZID=America/Toronto:20260113T131500
DTEND;TZID=America/Toronto:20260113T140000
DTSTAMP:20260419T103719
CREATED:20250717T161205Z
LAST-MODIFIED:20250717T161205Z
UID:10003364-1768310100-1768312800@knox.utoronto.ca
SUMMARY:Chapel
DESCRIPTION:
URL:https://knox.utoronto.ca/event/chapel-7/2026-01-13/
END:VEVENT
BEGIN:VEVENT
DTSTART;TZID=America/Toronto:20260106T131500
DTEND;TZID=America/Toronto:20260106T140000
DTSTAMP:20260419T103719
CREATED:20250717T161205Z
LAST-MODIFIED:20250717T161205Z
UID:10003363-1767705300-1767708000@knox.utoronto.ca
SUMMARY:Chapel
DESCRIPTION:
URL:https://knox.utoronto.ca/event/chapel-7/2026-01-06/
END:VEVENT
BEGIN:VEVENT
DTSTART;VALUE=DATE:20260105
DTEND;VALUE=DATE:20260106
DTSTAMP:20260419T103719
CREATED:20250717T154506Z
LAST-MODIFIED:20250717T154506Z
UID:10003613-1767571200-1767657599@knox.utoronto.ca
SUMMARY:Winter 2026 Classes Begin
DESCRIPTION:
URL:https://knox.utoronto.ca/event/winter-2026-classes-begin/
END:VEVENT
END:VCALENDAR